Workbook
Name ProtectBlockBuilder: #REF!,#REF!,#REF!,#REF!,#REF!,#REF!,#REF!,#REF!,#REF!
Name ProtectBlockBuilder: #REF!,#REF!,#REF!,#REF!,#REF!,#REF!,#REF!,#REF!,#REF!
Name ProtectBlockBuilder: #REF!,#REF!,#REF!,#REF!,#REF!,#REF!,#REF!,#REF!,#REF!
Name ProtectBlockBuilder: #REF!,#REF!,#REF!,#REF!,#REF!,#REF!,#REF!,#REF!,#REF!
Name ProtectBlockBuilder: #REF!,#REF!,#REF!,#REF!,#REF!,#REF!,#REF!,#REF!,#REF!
Name ProtectBlockBuilder: #REF!,#REF!,#REF!,#REF!,#REF!,#REF!,#REF!,#REF!,#REF!
Name ProtectBlockBuilder: #REF!,#REF!,#REF!,#REF!,#REF!,#REF!,#REF!,#REF!,#REF!
Name ProtectBlockBuilder: #REF!,#REF!,#REF!,#REF!,#REF!,#REF!,#REF!,#REF!,#REF!
Name ProtectSummary: Summary!$C$4:$C$6
Name ProtectUseAllocation: #REF!,#REF!,#REF!,#REF!,#REF!,#REF!,#REF!,#REF!,#REF!,#REF!,#REF!,#REF!
Name ProtectUseAllocation: #REF!,#REF!,#REF!,#REF!,#REF!,#REF!,#REF!,#REF!,#REF!,#REF!,#REF!,#REF!
Name ProtectUseAllocation: #REF!,#REF!,#REF!,#REF!,#REF!,#REF!,#REF!,#REF!,#REF!,#REF!,#REF!,#REF!
Name ProtectUseAllocation: #REF!,#REF!,#REF!,#REF!,#REF!,#REF!,#REF!,#REF!,#REF!,#REF!,#REF!,#REF!
Name ProtectUseAllocation: #REF!,#REF!,#REF!,#REF!,#REF!,#REF!,#REF!,#REF!,#REF!,#REF!,#REF!,#REF!
Name ProtectUseAllocation: #REF!,#REF!,#REF!,#REF!,#REF!,#REF!,#REF!,#REF!,#REF!,#REF!,#REF!,#REF!
Name ProtectUseAllocation: #REF!,#REF!,#REF!,#REF!,#REF!,#REF!,#REF!,#REF!,#REF!,#REF!,#REF!,#REF!
Name ProtectUseAllocation: #REF!,#REF!,#REF!,#REF!,#REF!,#REF!,#REF!,#REF!,#REF!,#REF!,#REF!,#REF!
Name sBuilding: #REF!
Name sBuilding: #REF!
Name sBuilding: #REF!
Name sBuilding: #REF!
Name sBuilding: #REF!
Name sBuilding: #REF!
Name sBuilding: #REF!
Name sBuilding: #REF!
Name sBuilding: 'Building Summary'!$A$2:$A$22
Name sBuilding_Cost: #REF!
Name sBuilding_Cost: #REF!
Name sBuilding_Cost: #REF!
Name sBuilding_Cost: #REF!
Name sBuilding_Cost: #REF!
Name sBuilding_Cost: #REF!
Name sBuilding_Cost: #REF!
Name sBuilding_Cost: #REF!
Name sBuilding_Cost: 'Building Summary'!$AD$2:$AD$22
Name sCommunity_Commercial_SF: #REF!
Name sCommunity_Commercial_SF: #REF!
Name sCommunity_Commercial_SF: #REF!
Name sCommunity_Commercial_SF: #REF!
Name sCommunity_Commercial_SF: #REF!
Name sCommunity_Commercial_SF: #REF!
Name sCommunity_Commercial_SF: #REF!
Name sCommunity_Commercial_SF: #REF!
Name sCommunity_Commercial_SF: 'Building Summary'!$I$2:$I$22
Name sCommunitySF: #REF!
Name sCommunitySF: #REF!
Name sCommunitySF: #REF!
Name sCommunitySF: #REF!
Name sCommunitySF: #REF!
Name sCommunitySF: #REF!
Name sCommunitySF: #REF!
Name sCommunitySF: #REF!
Name sCommunitySF: 'Building Summary'!$H$2:$H$22
Name sOfficeSF: #REF!
Name sOfficeSF: #REF!
Name sOfficeSF: #REF!
Name sOfficeSF: #REF!
Name sOfficeSF: #REF!
Name sOfficeSF: #REF!
Name sOfficeSF: #REF!

Sheet Block Builder
A1: URBANPLAN: BLOCK BUILDER
B3: BLOCK BUILDER
B4: Building Type | C4: Block 1 | D4: Block 2 | E4: Block 3 | F4: Block 4 | G4: Block 5 | H4: Block 6 | K4: Building Information
B5: Residential | M5: Site Coverage | N5: Housing Units | O5: Retail SF
B6: Townhouses | C6: 0 | D6: 3 | E6: 3 | F6: 0 | G6: 0 | H6: 3 | K6: 8 units, 10k SF footprint | M6: =Model!I25*Model!J25 -> 90000 | N6: =Model!AD25 -> 72
B7: Podium Apartments 1 | C7: 0 | D7: 0 | E7: 0 | F7: 2 | G7: 0 | H7: 0 | K7: 60 units, 20k SF footprint | M7: =Model!I26*Model!J26 -> 40000 | N7: =Model!AD26 -> 120
B8: Podium Apartments 2 (Mixed Use) | C8: 0 | D8: 1 | E8: 0 | F8: 0 | G8: 0 | H8: 0 | K8: 60 units, 5k retail, 20k SF footprint | M8: =Model!I27*Model!J27 -> 20000 | N8: =Model!AD27 -> 60 | O8: =Model!AH27 -> 5000
B9: Luxury Condo 1 | C9: 0 | D9: 0 | E9: 0 | F9: 0 | G9: 0 | H9: 0 | K9: 56 units, 20k SF footprint | M9: =Model!I28*Model!J28 -> 0 | N9: =Model!AD28 -> 0
B10: Luxury Condo 2 (Mixed Use) | C10: 0 | D10: 1 | E10: 0 | F10: 0 | G10: 0 | H10: 0 | K10: 56 units, 5k retail, 20k SF footprint | M10: =Model!I29*Model!J29 -> 20000 | N10: =Model!AD29 -> 56 | O10: =Model!AH29 -> 5000
B11: Office | M11: Site Coverage | O11: Retail SF | P11: Office SF
B12: Low-Rise Office 1 | C12: 0 | D12: 0 | E12: 1 | F12: 0 | G12: 0 | H12: 0 | K12: 45k SF, 30k SF footprint | M12: =Model!I31*Model!J31 -> 30000 | P12: =Model!AE31 -> 45000
B13: Low-Rise Office 2 | C13: 1 | D13: 0 | E13: 0 | F13: 0 | G13: 0 | H13: 0 | K13: 60k SF, 40k SF footprint | M13: =Model!I32*Model!J32 -> 40000 | P13: =Model!AE32 -> 60000
B14: Mid-Rise Office 1 | C14: 0 | D14: 0 | E14: 0 | F14: 0 | G14: 0 | H14: 0 | K14: 120k SF, 40k footprint | M14: =Model!I33*Model!J33 -> 0 | P14: =Model!AE33 -> 0
B15: Mid-Rise Office 2 (Mixed Use) | C15: 1 | D15: 0 | E15: 0 | F15: 0 | G15: 0 | H15: 0 | K15: 120k SF, 5k retail, 20k footprint | M15: =Model!I34*Model!J34 -> 20000 | O15: =Model!AH34 -> 5000 | P15: =Model!AE34 -> 120000
B16: Retail | M16: Site Coverage | O16: Retail SF
B17: Retail 1 | C17: 0 | D17: 0 | E17: 0 | F17: 0 | G17: 0 | H17: 0 | K17: 5k SF, 10k SF footprint | M17: =Model!I35*Model!J35 -> 0 | O17: =Model!AH35 -> 0
B18: Retail 2 | C18: 2 | D18: 2 | E18: 0 | F18: 0 | G18: 0 | H18: 0 | K18: 10k SF, 20k SF footprint | M18: =Model!I36*Model!J36 -> 80000 | O18: =Model!AH36 -> 40000
B19: Supermarket | C19: 0 | D19: 0 | E19: 0 | F19: 0 | G19: 1 | K19: 40k SF, 50k SF footprint | M19: =Model!I37*Model!J37 -> 50000 | O19: =Model!AH37 -> 40000
B20: Q-Mart | C20: 0 | D20: 0 | K20: 80k SF, 100k SF footprint | M20: =Model!I38*Model!J38 -> 0 | O20: =Model!AH38 -> 0
B21: Rehab | M21: Site Coverage | N21: Housing Units | O21: Retail SF | P21: Office SF | Q21: Subsidized Community | R21: Rent Free Community
B22: Phoenix Hotel | D22: Demolish | I22: GO TO USE ALLOCATION | K22: 60k SF, 20k SF footprint | M22: =Model!I40*Model!J40 -> 0 | N22: =Model!AD40 -> 0 | O22: =Model!AH40 -> 0 | P22: =Model!AE40 -> 0 | Q22: =Model!AI40 -> 0 | R22: =Model!AJ40 -> 0
B23: York Dry Goods | E23: Rehab | I23: GO TO USE ALLOCATION | K23: 48k SF, 20K SF footprint | M23: =Model!I41*Model!J41 -> 20000 | N23: =Model!AD41 -> 30 | O23: =Model!AH41 -> 5000 | P23: =Model!AE41 -> 3500 | Q23: =Model!AI41 -> 3500 | R23: =Model!AJ41 -> 0
B24: Victorian Row | F24: Rehab | I24: GO TO USE ALLOCATION | K24: 75k SF, 40k SF footprint | M24: =Model!I42*Model!J42 -> 40000 | N24: =Model!AD42 -> 40 | O24: =Model!AH42 -> 5000 | P24: =Model!AE42 -> 10000 | Q24: =Model!AI42 -> 0 | R24: =Model!AJ42 -> 10000
B25: New Homeless Shelter | M25: Site Coverage | O25: Retail SF
B26: New Homeless Shelter | C26: 1 | D26: 0 | E26: 0 | F26: 0 | G26: 0 | H26: 0 | K26: 60k SF, 20k SF footprint | M26: =Model!I30*Model!J30 -> 20000
B27: Open Space | M27: Site Coverage | O27: Retail SF
B28: Park/Plaza | C28: 0 | D28: 2 | E28: 0 | F28: 0 | G28: 0 | H28: 2 | K28: 5k SF footprint | M28: =Model!I43*Model!J43 -> 20000
B29: Sports Courts | C29: 0 | D29: 0 | E29: 0 | F29: 0 | G29: 1 | H29: 0 | K29: 10k SF footprint | M29: =Model!I44*Model!J44 -> 10000
B30: Skate Park | C30: 0 | D30: 0 | E30: 0 | F30: 0 | G30: 0 | H30: 0 | K30: 10k SF footprint | M30: =Model!I45*Model!J45 -> 0
B32: FOOTPRINT USED
C33: Block 1 | D33: Block 2 | E33: Block 3 | F33: Block 4 | G33: Block 5 | H33: Block 6 | I33: Total
B34: Block Size | C34: 120000 | D34: 120000 | E34: 80000 | F34: 80000 | G34: 60000 | H34: 40000 | I34: =SUM(C34:H34) -> 500000
B35: Planned | C35: =Model!C15 -> 120000 | D35: =Model!D15 -> 120000 | E35: =Model!E15 -> 80000 | F35: =Model!F15 -> 80000 | G35: =Model!G15 -> 60000 | H35: =Model!H15 -> 40000 | I35: =SUM(C35:H35) -> 500000 | M35: =SUM(M6:M30) -> 500000 | N35: =SUM(N6:N30) -> 378 | O35: =SUM(O6:O30) -> 105000 | P35: =SUM(P6:P30) -> 238500 | Q35: =SUM(Q6:Q30) -> 3500 | R35: =SUM(R6:R30) -> 10000 | S35: =SUM(S6:S30) -> 0
B36: Overbuilt/(Underbuilt) | C36: =C35-C34 -> 0 | D36: =D35-D34 -> 0 | E36: =E35-E34 -> 0 | F36: =F35-F34 -> 0 | G36: =G35-G34 -> 0 | H36: =H35-H34 -> 0 | I36: =SUM(C36:H36) -> 0
C37: =IF(C36>0,"OVERBUILT","") | D37: =IF(D36>0,"OVERBUILT","") | E37: =IF(E36>0,"OVERBUILT","") | F37: =IF(F36>0,"OVERBUILT","") | G37: =IF(G36>0,"OVERBUILT","") | H37: =IF(H36>0,"OVERBUILT","") | I37: =IF(I36>0,"OVERBUILT","")
B38: BLOCK USAGE
C39: Block 1 | D39: Block 2 | E39: Block 3 | F39: Block 4 | G39: Block 5 | H39: Block 6 | I39: Total
B40: Building Footprint | C40: =C35-C41 -> 80000 | D40: =D35-D41 -> 100000 | E40: =E35-E41 -> 65000 | F40: =F35-F41 -> 80000 | G40: =G35-G41 -> 50000 | H40: =H35-H41 -> 40000 | I40: =SUM(C40:H40) -> 415000
B41: Parking Footprint | C41: =Model!C20 -> 40000 | D41: =Model!D20 -> 20000 | E41: =Model!E20 -> 15000 | F41: =Model!F20 -> 0 | G41: =Model!G20 -> 10000 | H41: =Model!H20 -> 0 | I41: =SUM(C41:H41) -> 85000
B42: Total Planned | C42: =SUM(C40:C41) -> 120000 | D42: =SUM(D40:D41) -> 120000 | E42: =SUM(E40:E41) -> 80000 | F42: =SUM(F40:F41) -> 80000 | G42: =SUM(G40:G41) -> 60000 | H42: =SUM(H40:H41) -> 40000 | I42: =SUM(C42:H42) -> 500000

Sheet List
A1: 0 | B1: 0 | C1: 0 | D1: 0 | E1: 0 | F1: 0 | G1: 0 | H1: 0 | I1: 0 | J1: 0 | K1: 0 | L1: 0 | M1: 0 | N1: 0 | O1: 0
A2: 0.25 | B2: 5000 | C2: 10000 | D2: 15000 | E2: 2500 | F2: 7000 | G2: 2000 | H2: 3500 | I2: 1500 | J2: 5000 | K2: 6000 | L2: 4000 | M2: 5000 | N2: 5500 | O2: 7500
A3: 0.5 | B3: 10000
A4: 0.75 | B4: 15000
A5: 1 | B5: 20000

Sheet Use Allocation
A1: URBANPLAN: USE ALLOCATION
B3: AFFORDABLE HOUSING CREATION | G3: NET ZERO BUILDING %
B4: Product Type | E4: % Affordable | G4: Total Construction Costs | J4: =Costs!H40 -> 2.49865e+08
B5: Townhouses (Moderate Income) | E5: 0.05 | G5: Cost for 100% of buildings to achieve Net Zero | J5: =J4*0.03 -> 7495950
B6: Podium Apartments (Low Income) | E6: 0.2 | G6: % of buildings that will be Net Zero (0 to 100%) | J6: 0.2
B7: Rehab (Very Low Income) | E7: 0.05 | G7: Total Net Zero Building Cost | J7: =J5*J6 -> 1499190
B9: PHOENIX HOTEL REHAB
B10: Choice | E10: ='Block Builder'!D22 -> Demolish | F10: CHOOSE IN BLOCK BUILDER
B11: Use: Mixed-Use or Shelter | E11: Mixed Use | F11: OVERRIDEN IN MODEL IF DEMOLISHED ABOVE
B12: Location | F12: Shelter SF | G12: Retail SF | H12: Office SF | I12: Residential Units | J12: Residential SF | K12: Total SF
B13: Floor 1 (15,000 SF) | G13: 0
B14: Floor 2 (15,000 SF) | I14: 0 | J14: =(IFERROR(I14/12,I14/12)*15000)*Model!$D$40 -> 0
B15: Floor 3 (15,000 SF) | I15: 0 | J15: =(IFERROR(I15/12,I15/12)*15000)*Model!$D$40 -> 0
B16: Floor 4 (15,000 SF) | I16: 0 | J16: =(IFERROR(I16/12,I16/12)*15000)*Model!$D$40 -> 0
B17: Office (Remainder) | H17: =(60000-SUM(G19,J19))*Model!I40 -> 0
B18: Shelter | F18: =Model!I39*Model!AM39 -> 0
B19: Total Phoenix Hotel Rehab | F19: =SUM(F13:F18) -> 0 | G19: =SUM(G13:G18)*Model!I40 -> 0 | H19: =H17 -> 0 | I19: =SUM(I14:I16)*Model!I40 -> 0 | J19: =SUM(J13:J18) -> 0 | K19: =G19+H19+J19+F19 -> 0
B21: YORK DRY GOODS
B22: Location | E22: Subsidized Community SF | F22: Rent-Free Community SF | G22: Retail SF | H22: Office SF | I22: Residential Units | J22: Residential SF | K22: Total SF
B23: Floor 1 (12,000 SF) | G23: 5000
B24: Floor 2 (12,000 SF) | I24: 10 | J24: =IFERROR(I24/10,I24/10)*12000 -> 12000
B25: Floor 3 (12,000 SF) | I25: 10 | J25: =IFERROR(I25/10,I25/10)*12000 -> 12000
B26: Floor 4 (12,000 SF) | I26: 10 | J26: =IFERROR(I26/10,I26/10)*12000 -> 12000
B27: Branch Library (7,500 SF) | E27: 0
B28: Community Art Space (2,500 SF) | E28: 0
B29: Community Space with Resilience Hub (7,000 SF) | E29: 0
B30: Day Care Center (3,500 SF) | E30: 3500
B31: Drug Treatment Center (1,500 SF) | E31: 0
B32: Police Sub-Station (1,500 SF) | E32: 0
B33: Public Health Clinic (5,000 SF) | E33: 0
B34: Senior Center (6,000 SF) | E34: 0
B35: Small Business Incubator (4,000 SF) | E35: 0
B36: Teen Center (5,000 SF) | E36: 0
B37: Yorktown Bike Share (5,500 SF) | E37: 0
B38: Artist Studios (10,000 SF) | F38: 0
B39: University Classrooms (15,000 SF) | F39: 0
B40: Office (Remainder) | H40: =(48000-SUM(G41,J41,E41,F41))*Model!I41 -> 3500
B41: Total | E41: =SUM(E23:E40) -> 3500 | F41: =SUM(F23:F40) -> 0 | G41: =SUM(G23:G40) -> 5000 | H41: =IF(H40<0,"OVERALLOCATED",H40) -> 3500 | I41: =SUM(I23:I40) -> 30 | J41: =SUM(J23:J40) -> 36000 | K41: =G41+H41+J41+E41+F41 -> 48000
B43: VICTORIAN ROW REHAB
B44: Is Victorian Row Rehabbed? | E44: ='Block Builder'!F24 -> Rehab | F44: CHOOSE FROM BLOCK BUILDER | H44: =IF(E44="demolish","ALL INPUTS BELOW ADD TO ZERO","")
...

Sheet Summary
A1: URBANPLAN: SUMMARY
B3: Team Information
B4: Team Name | C4: Name
B5: Team Number | C5: Number
B6: Location | C6: Location
B8: Footprint and Use Allocation Check | F8: Developer Return Summary
B9: Is any block overbuilt? Yes/No | C9: =IF(COUNTIF('Block Builder'!C37:H37,"overbuilt"),"Yes","No") -> No | D9: =IF(C9="No","","<=GO TO BLOCK BUILDER") | F9: Market Value | H9: =Value!L40 -> 308611000
B10: Are existing buildings overallocated? Yes/No | C10: =IF(OR('Use Allocation'!H40<0,'Use Allocation'!H51<0),"Yes","No") -> No | D10: =IF(C10="No","","<=GO TO USE ALLOCATION") | F10: Costs/Subsidies
F11: - Construction Costs | H11: =-Costs!H40 -> -2.49865e+08
B12: Affordable Housing Creation | C12: Total Units | D12: % | F12: - Land Payment | H12: =-Model!H5 -> -20000000
B13: Townhouses (Moderate Income) | C13: =Costs!D6 -> 4 | D13: ='Use Allocation'!E5 -> 0.05 | F13: - Absorption Penalty | H13: =Value!P40 -> 0
B14: Podium Apartments (Low Income) | C14: =Costs!D7+Costs!D8 -> 36 | D14: ='Use Allocation'!E6 -> 0.2 | F14: + City Construction Cost Subsidy | H14: =Costs!L40 -> 3162000
B15: Rehab (Very Low Income) | C15: =SUM(Costs!D11:D13) -> 4 | D15: ='Use Allocation'!E7 -> 0.05 | F15: - Net Zero Building Cost | H15: =-'Use Allocation'!J7 -> -1499190
B16: Luxury Condominium | C16: 0 | D16: 0 | F16: - Shelter: Relocation Fee | H16: =Model!L4 -> 0
B17: Total Affordable Housing Units | C17: =SUM(C13:C16) -> 44 | D17: =H52 -> 0.11640212 | F17: Total Costs/Subsidies | H17: =SUM(H11:H16) -> -268202190
F18: Developer Net Profit | H18: =H9+H17 -> 40408810
C19: Total Units/SF | D19: Years to | F19: Rate of Return | H19: =H18/-H17 -> 0.15066547
D20: Absorb
B21: Market-Rate Residential | C21: Total Units | F21: City Revenue Summary
B22: Phoenix Hotel | C22: =Market!C6 -> 0 | D22: In Podium | F22: City Revenue | H22: $
B23: York Dry Goods | C23: =Market!C7 -> 28 | D23: In Podium | F23: + City Tax Revenue (10-Year) | H23: ='City Revenue'!N45 -> 22170000
B24: Victorian Row | C24: =Market!C8 -> 38 | D24: In Podium | F24: - City Operating Costs (10-Year) | H24: ='City Revenue'!N46 -> -1203250
B25: Townhouses | C25: =Market!C9 -> 68 | D25: =Market!G9 -> 2.8333333 | F25: + Sale of Land to Developer | H25: ='City Revenue'!N48 -> 20000000
B26: Podium Apartments | C26: =Market!C10 -> 144 | D26: =Market!G10 -> 2.1 | F26: - Cost of Land Acquisition | H26: ='City Revenue'!N49 -> -25000000
B27: Luxury Condos | C27: =Market!C11 -> 56 | D27: =Market!G11 -> 1.6 | F27: - City Construction Cost Subsidy | H27: ='City Revenue'!N50 -> -3162000
B28: Office | C28: Total SF | F28: City Net Revenue | H28: =SUM(H23:H27) -> 12804750
B29: Phoenix Hotel | C29: =Market!C13 -> 0 | D29: In Low Rise
B30: York Dry Goods | C30: =Market!C14 -> 3500 | D30: In Low Rise | F30: City Fee Summary
B31: Victorian Row | C31: =Market!C15 -> 10000 | D31: In Low Rise | F31: Fee to City for relocating shelter | H31: =Costs!H45 -> 0
B32: Low-Rise Office | C32: =Market!C16 -> 105000 | D32: =Market!G16 -> 1.48125
B33: Mid-Rise Office | C33: =Market!C17 -> 120000 | D33: =Market!G17 -> 1.7142857 | F33: Open Space | G33: SF | H33: % of Site Area
B34: Retail | C34: Total SF | F34: Park/Plaza | G34: =Costs!E37 -> 20000 | H34: =G34/TotalSiteArea -> 0.04
B35: Phoenix Hotel | C35: =Market!C19 -> 0 | D35: In Neigh. Ret. | F35: Sports Courts | G35: =Costs!E38 -> 10000 | H35: =G35/TotalSiteArea -> 0.02
B36: York Dry Goods | C36: =Market!C20 -> 5000 | D36: In Neigh. Ret. | F36: Skate Park | G36: =Costs!E39 -> 0 | H36: =G36/TotalSiteArea -> 0
B37: Victorian Row | C37: =Market!C21 -> 5000 | D37: In Neigh. Ret. | F37: Total Open Space | G37: =SUM(G34:G36) -> 30000 | H37: =G37/TotalSiteArea -> 0.06
B38: Mid-Rise Office 2 | C38: =Market!C22 -> 5000 | D38: In Neigh. Ret.
B39: Podium Apartments 2 | C39: =Market!C23 -> 5000 | D39: In Neigh. Ret. | F39: Net Zero
B40: Luxury Condos 2 | C40: =Market!C24 -> 5000 | D40: In Neigh. Ret. | F40: Fee | G40: ='Use Allocation'!J6 -> 0.2 | H40: ='Use Allocation'!J7 -> 1499190
B41: Neighborhood Retail | C41: =Market!C25 -> 40000 | D41: =Market!G25 -> 2.9545455
B42: Supermarket | C42: =Market!C26 -> 40000 | D42: =Market!G26 -> 2.6666667 | F42: Jobs Creation Summary
...

Sheet Costs
A1: URBANPLAN: COSTS
F4: X Cost/(Unit or Bldg SF) | G4: = | H4: Construction Cost | I4: X | J4: % City Share of Cost | K4: = | L4: Total City Cost
B5: Residential | C5: Market-Rate | D5: Affordable | E5: Total Units | F5: Cost/Unit
B6: Townhouses | C6: =Model!AB25 -> 68 | D6: =Model!AC25 -> 4 | E6: =C6+D6 -> 72 | F6: =ROUND(IFERROR(H6/E6,0),2) -> 407500 | H6: =Model!N25+Model!O25 -> 29340000 | J6: =Model!$C$4 -> 0.15 | L6: =Model!Y25 -> 220000
B7: Podium Apartments 1 | C7: =Model!AB26 -> 96 | D7: =Model!AC26 -> 24 | E7: =C7+D7 -> 120 | F7: =ROUND(IFERROR(H7/E7,0),2) -> 210000 | H7: =Model!N26+Model!O26 -> 25200000 | J7: =Model!$C$4 -> 0.15 | L7: =Model!Y26 -> 756000
B8: Podium Apartments 2 | C8: =Model!AB27 -> 48 | D8: =Model!AC27 -> 12 | E8: =C8+D8 -> 60 | F8: =ROUND(IFERROR(H8/E8,0),2) -> 266470.59 | H8: =Model!N27+Model!O27 -> 15988235 | J8: =Model!$C$4 -> 0.15 | L8: =Model!Y27 -> 480000
B9: Luxury Condos 1 | C9: =Model!AB28 -> 0 | E9: =C9+D9 -> 0 | F9: =ROUND(IFERROR(H9/E9,0),2) -> 0 | H9: =Model!N28 -> 0
B10: Luxury Condos 2 | C10: =Model!AB29 -> 56 | E10: =C10+D10 -> 56 | F10: =ROUND(IFERROR(H10/E10,0),2) -> 526890.76 | H10: =Model!N29 -> 29505882
B11: Phoenix Hotel | C11: =Model!AB40 -> 0 | D11: =Model!AC40 -> 0 | E11: =C11+D11 -> 0 | F11: =ROUND(IFERROR(H11/E11,0),2) -> 0 | H11: =Model!N40+Model!O40 -> 0 | J11: =Model!$C$4 -> 0.15 | L11: =Model!Y40 -> 0
B12: York Dry Goods | C12: =Model!AB41 -> 28 | D12: =Model!AC41 -> 2 | E12: =C12+D12 -> 30 | F12: =ROUND(IFERROR(H12/E12,0),2) -> 300000 | H12: =Model!N41+Model!O41 -> 9000000 | J12: =Model!$C$4 -> 0.15 | L12: =Model!V41 -> 68000
B13: Victorian Row | C13: =Model!AB42 -> 38 | D13: =Model!AC42 -> 2 | E13: =C13+D13 -> 40 | F13: =ROUND(IFERROR(H13/E13,0),2) -> 312500 | H13: =Model!N42+Model!O42 -> 12500000 | J13: =Model!$C$4 -> 0.15 | L13: =Model!Y42 -> 94000
B14: Office | E14: Building SF | F14: Cost/SF
B15: Phoenix Hotel | E15: =Model!AE40 -> 0 | F15: =ROUND(IFERROR(H15/E15,0),2) -> 0 | H15: =Model!M40 -> 0
B16: York Dry Goods | E16: =Model!AE41 -> 3500 | F16: =ROUND(IFERROR(H16/E16,0),2) -> 250 | H16: =Model!M41 -> 875000
B17: Victorian Row | E17: =Model!AE42 -> 10000 | F17: =ROUND(IFERROR(H17/E17,0),2) -> 250 | H17: =Model!M42 -> 2500000
B18: Low-Rise Office 1 | E18: =Model!AE31 -> 45000 | F18: =ROUND(IFERROR(H18/E18,0),2) -> 312.5 | H18: =Model!M31 -> 14062500
B19: Low-Rise Office 2 | E19: =Model!AE32 -> 60000 | F19: =ROUND(IFERROR(H19/E19,0),2) -> 312.5 | H19: =Model!M32 -> 18750000
B20: Mid-Rise Office 1 | E20: =Model!AE33 -> 0 | F20: =ROUND(IFERROR(H20/E20,0),2) -> 0 | H20: =Model!M33 -> 0
B21: Mid-Rise Office 2 | E21: =Model!AE34 -> 120000 | F21: =ROUND(IFERROR(H21/E21,0),2) -> 472.8 | H21: =Model!M34 -> 56736000
B22: Retail | E22: Building SF | F22: Cost/SF
B23: Phoenix Hotel | E23: =Model!AH40 -> 0 | F23: =ROUND(IFERROR(H23/E23,0),2) -> 0 | H23: =Model!P40 -> 0
B24: York Dry Goods | E24: =Model!AH41 -> 5000 | F24: =ROUND(IFERROR(H24/E24,0),2) -> 250 | H24: =Model!P41 -> 1250000
B25: Victorian Row | E25: =Model!AH42 -> 5000 | F25: =ROUND(IFERROR(H25/E25,0),2) -> 250 | H25: =Model!P42 -> 1250000
B26: Retail in Mid-Rise Office 2 | E26: =Model!AH34 -> 5000 | F26: =ROUND(IFERROR(H26/E26,0),2) -> 472.8 | H26: =Model!P34 -> 2364000
B27: Retail in Podium Apartments 2 | E27: =Model!AH27 -> 5000 | F27: =ROUND(IFERROR(H27/E27,0),2) -> 199.85 | H27: =Model!P27 -> 999264.71
B28: Retail in Luxury Condo 2 | E28: =+Model!AH29 -> 5000 | F28: =ROUND(IFERROR(H28/E28,0),2) -> 368.82 | H28: =Model!P29 -> 1844117.6
B29: Neighborhood Retail | E29: =Model!AH35+Model!AH36 -> 40000 | F29: =ROUND(IFERROR(H29/E29,0),2) -> 250 | H29: =Model!P35+Model!P36 -> 10000000
B30: Supermarket | E30: =Model!AH37 -> 40000 | F30: =ROUND(IFERROR(H30/E30,0),2) -> 287.5 | H30: =Model!P37 -> 11500000
B31: Q-Mart | E31: =Model!AH38 -> 0 | F31: =ROUND(IFERROR(H31/E31,0),2) -> 0 | H31: =Model!P38 -> 0
B32: Community and "Rent-Free" Space Facilities | E32: Building SF | F32: Total Cost
B33: York Dry Goods: Subsidized Community Facilities | E33: =Model!AI41 -> 3500 | F33: =ROUND(IFERROR(H33/E33,0),2) -> 250 | H33: =Model!Q41 -> 875000 | J33: =Model!$C$6 -> 0.15 | L33: =Model!X41 -> 131000
B34: York Dry Goods: Rent-Free Community Facilities | E34: =Model!AJ41 -> 0 | F34: =ROUND(IFERROR(H34/E34,0),2) -> 0 | H34: =Model!R41 -> 0
B35: Victorian Row: Rent-Free Community Facilities | E35: =Model!AJ42 -> 10000 | F35: =ROUND(IFERROR(H35/E35,0),2) -> 250 | H35: =Model!R42 -> 2500000
B36: Open Space | E36: Total SF
B37: Park/Plaza | E37: =Model!AL43 -> 20000 | F37: =ROUND(IFERROR(H37/E37,0),2) -> 92.5 | H37: =Model!L43 -> 1850000 | J37: =Model!$C$5 -> 0.5 | L37: =Model!Y43 -> 925000
B38: Sports Courts | E38: =Model!AL44 -> 10000 | F38: =ROUND(IFERROR(H38/E38,0),2) -> 97.5 | H38: =Model!L44 -> 975000 | J38: =Model!$C$5 -> 0.5 | L38: =Model!Y44 -> 488000
B39: Skate Park | E39: =Model!AL45 -> 0 | F39: =ROUND(IFERROR(H39/E39,0),2) -> 0 | H39: =Model!L45 -> 0 | J39: =Model!$C$5 -> 0.5 | L39: =Model!Y45 -> 0
B40: TOTAL CONSTRUCTION COSTS | H40: =SUM(H6:H39) -> 2.49865e+08 | L40: =SUM(L6:L39) -> 3162000
B42: Homeless Shelter | D42: Beds | E42: Building SF
B43: Phoenix Hotel: Homeless Shelter | D43: =Model!L6*Model!I39 -> 0 | E43: =Model!AK39 -> 0 | J43: Construction cost paid by Church
...

Sheet Market
A1: URBANPLAN: MARKET ABSORPTION
C4: Total Units/SF | D4: / | E4: Annual Absorption | F4: = | G4: Years to Absorb | H4: Time > 3 Years | I4: Total Absorption Penalty
B5: Market-Rate Residential | C5: Total Units
B6: Phoenix Hotel | C6: =Costs!C11 -> 0 | E6: In Podium | G6: In Podium
B7: York Dry Goods | C7: =Costs!C12 -> 28 | E7: In Podium | G7: In Podium
B8: Victorian Row | C8: =Costs!C13 -> 38 | E8: In Podium | G8: In Podium
B9: Townhouses | C9: =Costs!C6 -> 68 | E9: 24 | G9: =IFERROR(C9/E9,0) -> 2.8333333 | H9: =MAX(G9-3,0) -> 0 | I9: =Value!P6 -> 0
B10: Podium Apartments | C10: =Costs!C7+Costs!C8 -> 144 | E10: 100 | G10: =IFERROR(SUM($C$6:$C$8,$C$10)/E10,0) -> 2.1 | H10: =MAX(G10-3,0) -> 0 | I10: =Value!P7+Value!P8 -> 0
B11: Luxury Condos | C11: =Costs!C9+Costs!C10 -> 56 | E11: 35 | G11: =IFERROR(C11/E11,0) -> 1.6 | H11: =MAX(G11-3,0) -> 0 | I11: =Value!P9+Value!P10 -> 0
B12: Office | C12: Total SF
B13: Phoenix Hotel | C13: =Costs!E15 -> 0 | E13: In Low Rise | G13: In Low Rise
B14: York Dry Goods | C14: =Costs!E16 -> 3500 | E14: In Low Rise | G14: In Low Rise
B15: Victorian Row | C15: =Costs!E17 -> 10000 | E15: In Low Rise | G15: In Low Rise
B16: Low-Rise Office | C16: =Costs!E18+Costs!E19 -> 105000 | E16: 80000 | G16: =IFERROR(SUM(C13:C16)/E16,0) -> 1.48125 | H16: =MAX(G16-3,0) -> 0 | I16: =Value!P18+Value!P19 -> 0
B17: Mid-Rise Office | C17: =Costs!E20+Costs!E21 -> 120000 | E17: 70000 | G17: =IFERROR(C17/E17,0) -> 1.7142857 | H17: =MAX(G17-3,0) -> 0 | I17: =Value!P20+Value!P21 -> 0
B18: Retail | C18: Total SF
B19: Phoenix Hotel | C19: =Costs!E23 -> 0 | E19: In Neigh. Ret. | G19: In Neigh. Ret.
B20: York Dry Goods | C20: =Costs!E24 -> 5000 | E20: In Neigh. Ret. | G20: In Neigh. Ret.
B21: Victorian Row | C21: =Costs!E25 -> 5000 | E21: In Neigh. Ret. | G21: In Neigh. Ret.
B22: Mid-Rise Office 2 | C22: =Costs!E26 -> 5000 | E22: In Neigh. Ret. | G22: In Neigh. Ret.
B23: Podium Apartments 2 | C23: =Costs!E27 -> 5000 | E23: In Neigh. Ret. | G23: In Neigh. Ret.
B24: Luxury Condos 2 | C24: =Costs!E28 -> 5000 | E24: In Neigh. Ret. | G24: In Neigh. Ret.
B25: Neighborhood Retail | C25: =Costs!E29 -> 40000 | E25: 22000 | G25: =IFERROR(SUM(C19:C25)/E25,0) -> 2.9545455 | H25: =MAX(G25-3,0) -> 0 | I25: =Value!P29 -> 0
B26: Supermarket | C26: =Costs!E30 -> 40000 | E26: 15000 | G26: =IFERROR(C26/E26,0) -> 2.6666667 | H26: =MAX(G26-3,0) -> 0 | I26: =Value!P30 -> 0
B27: Q-Mart | C27: =Costs!E31 -> 0 | E27: 30000 | G27: =IFERROR(C27/E27,0) -> 0 | H27: =MAX(G27-3,0) -> 0 | I27: =Value!P31 -> 0

Sheet Value
A1: URBANPLAN: VALUE
F4: Market-Rate Value/Unit | G4: Affordable Value/Unit | H4: X Value/(Unit or SF) | I4: Market-Rate Value | J4: Affordable Value | K4: = | L4: Market Value | M4: - | N4: Cost | O4: - | P4: Absorption Penalty | Q4: + | R4: City Construction Cost Subsidy | S4: = | T4: Developer Profit
B5: Residential | C5: Market-Rate | D5: Affordable | E5: Total Units | H5: Value/Unit
B6: Townhouses | C6: =Costs!C6 -> 68 | D6: =Costs!D6 -> 4 | E6: =Costs!E6 -> 72 | F6: =IFERROR(I6/C6,0) -> 532867.65 | G6: =IFERROR(J6/D6,0) -> 146750 | H6: =ROUND(IFERROR(L6/E6,0),2) -> 511416.67 | I6: =Model!AZ25 -> 36235000 | J6: =Model!BA25 -> 587000 | L6: =I6+J6 -> 36822000 | N6: =Costs!H6 -> 29340000 | P6: =-Model!BM25 -> 0 | R6: =Costs!L6 -> 220000 | T6: =L6-N6+P6+R6 -> 7702000
B7: Podium Apartments 1 | C7: =Costs!C7 -> 96 | D7: =Costs!D7 -> 24 | E7: =Costs!E7 -> 120 | F7: =IFERROR(I7/C7,0) -> 277197.92 | G7: =IFERROR(J7/D7,0) -> 84000 | H7: =ROUND(IFERROR(L7/E7,0),2) -> 238558.33 | I7: =Model!AZ26 -> 26611000 | J7: =Model!BA26 -> 2016000 | L7: =I7+J7 -> 28627000 | N7: =Costs!H7 -> 25200000 | P7: =-Model!BM26 -> 0 | R7: =Costs!L7 -> 756000 | T7: =L7-N7+P7+R7 -> 4183000
B8: Podium Apartments 2 | C8: =Costs!C8 -> 48 | D8: =Costs!D8 -> 12 | E8: =Costs!E8 -> 60 | F8: =IFERROR(I8/C8,0) -> 341187.5 | G8: =IFERROR(J8/D8,0) -> 106583.33 | H8: =ROUND(IFERROR(L8/E8,0),2) -> 294266.67 | I8: =Model!AZ27 -> 16377000 | J8: =Model!BA27 -> 1279000 | L8: =I8+J8 -> 17656000 | N8: =Costs!H8 -> 15988235 | P8: =-Model!BM27 -> 0 | R8: =Costs!L8 -> 480000 | T8: =L8-N8+P8+R8 -> 2147764.7
B9: Luxury Condos 1 | C9: =Costs!C9 -> 0 | E9: =Costs!E9 -> 0 | F9: =IFERROR(I9/C9,0) -> 0 | H9: =ROUND(IFERROR(L9/E9,0),2) -> 0 | I9: =Model!AZ28 -> 0 | L9: =I9+J9 -> 0 | N9: =Costs!H9 -> 0 | P9: =-Model!BM28 -> 0 | T9: =L9-N9+P9+R9 -> 0
B10: Luxury Condos 2 | C10: =Costs!C10 -> 56 | E10: =Costs!E10 -> 56 | F10: =IFERROR(I10/C10,0) -> 726500 | H10: =ROUND(IFERROR(L10/E10,0),2) -> 726500 | I10: =Model!AZ29 -> 40684000 | L10: =I10+J10 -> 40684000 | N10: =Costs!H10 -> 29505882 | P10: =-Model!BM29 -> 0 | T10: =L10-N10+P10+R10 -> 11178118
B11: Phoenix Hotel | C11: =Costs!C11 -> 0 | D11: =Costs!D11 -> 0 | E11: =Costs!E11 -> 0 | F11: =IFERROR(I11/C11,0) -> 0 | G11: =IFERROR(J11/D11,0) -> 0 | H11: =ROUND(IFERROR(L11/E11,0),2) -> 0 | I11: =Model!AZ40 -> 0 | J11: =Model!BA40 -> 0 | L11: =I11+J11 -> 0 | N11: =Costs!H11 -> 0 | P11: In Podium | R11: =Costs!L11 -> 0 | T11: =L11-N11+R11 -> 0
B12: York Dry Goods | C12: =Costs!C12 -> 28 | D12: =Costs!D12 -> 2 | E12: =Costs!E12 -> 30 | F12: =IFERROR(I12/C12,0) -> 403071.43 | G12: =IFERROR(J12/D12,0) -> 90000 | H12: =ROUND(IFERROR(L12/E12,0),2) -> 382200 | I12: =Model!AZ41 -> 11286000 | J12: =Model!BA41 -> 180000 | L12: =I12+J12 -> 11466000 | N12: =Costs!H12 -> 9000000 | P12: In Podium | R12: =Costs!L12 -> 68000 | T12: =L12-N12+R12 -> 2534000
B13: Victorian Row | C13: =Costs!C13 -> 38 | D13: =Costs!D13 -> 2 | E13: =Costs!E13 -> 40 | F13: =IFERROR(I13/C13,0) -> 396868.42 | G13: =IFERROR(J13/D13,0) -> 125000 | H13: =ROUND(IFERROR(L13/E13,0),2) -> 383275 | I13: =Model!AZ42 -> 15081000 | J13: =Model!BA42 -> 250000 | L13: =I13+J13 -> 15331000 | N13: =Costs!H13 -> 12500000 | P13: In Podium | R13: =Costs!L13 -> 94000 | T13: =L13-N13+R13 -> 2925000
B14: Office | E14: Building SF | H14: Value/SF
B15: Phoenix Hotel | E15: =Costs!E15 -> 0 | H15: =ROUND(IFERROR(L15/E15,0),2) -> 0 | L15: =Model!AY40 -> 0 | N15: =Costs!H15 -> 0 | P15: In Low-Rise | T15: =L15-N15+R15 -> 0
B16: York Dry Goods | E16: =Costs!E16 -> 3500 | H16: =ROUND(IFERROR(L16/E16,0),2) -> 312.57 | L16: =Model!AY41 -> 1094000 | N16: =Costs!H16 -> 875000 | P16: In Low-Rise | T16: =L16-N16+R16 -> 219000
B17: Victorian Row | E17: =Costs!E17 -> 10000 | H17: =ROUND(IFERROR(L17/E17,0),2) -> 300 | L17: =Model!AY42 -> 3000000 | N17: =Costs!H17 -> 2500000 | P17: In Low-Rise | T17: =L17-N17+R17 -> 500000
B18: Low-Rise Office 1 | E18: =Costs!E18 -> 45000 | H18: =ROUND(IFERROR(L18/E18,0),2) -> 407.82 | L18: =Model!AY31 -> 18352000 | N18: =Costs!H18 -> 14062500 | P18: =-Model!BL31 -> 0 | T18: =L18-N18+P18+R18 -> 4289500
B19: Low-Rise Office 2 | E19: =Costs!E19 -> 60000 | H19: =ROUND(IFERROR(L19/E19,0),2) -> 407.82 | L19: =Model!AY32 -> 24469000 | N19: =Costs!H19 -> 18750000 | P19: =-Model!BL32 -> 0 | T19: =L19-N19+P19+R19 -> 5719000
B20: Mid-Rise Office 1 | E20: =Costs!E20 -> 0 | H20: =ROUND(IFERROR(L20/E20,0),2) -> 0 | L20: =Model!AY33 -> 0 | N20: =Costs!H20 -> 0 | P20: =-Model!BL33 -> 0 | T20: =L20-N20+P20+R20 -> 0
B21: Mid-Rise Office 2 | E21: =Costs!E21 -> 120000 | H21: =ROUND(IFERROR(L21/E21,0),2) -> 600.78 | L21: =Model!AY34 -> 72094000 | N21: =Costs!H21 -> 56736000 | P21: =-Model!BL34 -> 0 | T21: =L21-N21+P21+R21 -> 15358000
B22: Retail | E22: Building SF | H22: Value/SF
B23: Phoenix Hotel | E23: =Costs!E23 -> 0 | H23: =ROUND(IFERROR(L23/E23,0),2) -> 0 | L23: =Model!BB40 -> 0 | N23: =Costs!H23 -> 0 | P23: In Neighborhood | T23: =L23-N23+R23 -> 0
B24: York Dry Goods | E24: =Costs!E24 -> 5000 | H24: =ROUND(IFERROR(L24/E24,0),2) -> 325 | L24: =Model!BB41 -> 1625000 | N24: =Costs!H24 -> 1250000 | P24: In Neighborhood | T24: =L24-N24+R24 -> 375000
B25: Victorian Row | E25: =Costs!E25 -> 5000 | H25: =ROUND(IFERROR(L25/E25,0),2) -> 312.6 | L25: =Model!BB42 -> 1563000 | N25: =Costs!H25 -> 1250000 | P25: In Neighborhood | T25: =L25-N25+R25 -> 313000
B26: Retail in Mid-Rise Office 2 | E26: =Costs!E26 -> 5000 | H26: =ROUND(IFERROR(L26/E26,0),2) -> 596.2 | L26: =Model!BB34 -> 2981000 | N26: =Costs!H26 -> 2364000 | P26: In Neighborhood | T26: =L26-N26+R26 -> 617000
B27: Retail in Podium Apartments 2 | E27: =Costs!E27 -> 5000 | H27: =ROUND(IFERROR(L27/E27,0),2) -> 252 | L27: =Model!BB27 -> 1260000 | N27: =Costs!H27 -> 999264.71 | P27: In Neighborhood | T27: =L27-N27+R27 -> 260735.29
B28: Retail in Luxury Condo 2 | E28: =Costs!E28 -> 5000 | H28: =ROUND(IFERROR(L28/E28,0),2) -> 469.8 | L28: =Model!BB29 -> 2349000 | N28: =Costs!H28 -> 1844117.6 | P28: In Neighborhood | T28: =L28-N28+R28 -> 504882.35
B29: Neighborhood Retail | E29: =Costs!E29 -> 40000 | H29: =ROUND(IFERROR(L29/E29,0),2) -> 325 | L29: =Model!BB35+Model!BB36 -> 13000000 | N29: =Costs!H29 -> 10000000 | P29: =-Model!BN35-Model!BN36 -> 0 | T29: =L29-N29+P29+R29 -> 3000000
B30: Supermarket | E30: =Costs!E30 -> 40000 | H30: =ROUND(IFERROR(L30/E30,0),2) -> 390.63 | L30: =Model!BB37 -> 15625000 | N30: =Costs!H30 -> 11500000 | P30: =-Model!BN37 -> 0 | T30: =L30-N30+P30+R30 -> 4125000
B31: Q-Mart | E31: =Costs!E31 -> 0 | H31: =ROUND(IFERROR(L31/E31,0),2) -> 0 | L31: =Model!BB38 -> 0 | N31: =Costs!H31 -> 0 | P31: =-Model!BN38 -> 0 | T31: =L31-N31+P31+R31 -> 0
B32: Community and "Rent-Free" Facilities | E32: Building SF | H32: Total Value
B33: York Dry Goods: Subsidized Community Facilities | E33: =Costs!E33 -> 3500 | H33: =ROUND(IFERROR(L33/E33,0),2) -> 175.14 | L33: =Model!BC41 -> 613000 | N33: =Costs!H33 -> 875000 | R33: =Costs!L33 -> 131000 | T33: =L33-N33+P33+R33 -> -131000
B34: York Dry Goods: Rent-Free Community Facilities | E34: =Costs!E34 -> 0 | H34: =ROUND(IFERROR(L34/E34,0),2) -> 0 | L34: =Model!BD41 -> 0 | N34: =Costs!H34 -> 0 | T34: =L34-N34+P34+R34 -> 0
B35: Victorian Row: Rent-Free Community Facilities | E35: =Costs!E35 -> 10000 | H35: =ROUND(IFERROR(L35/E35,0),2) -> 0 | L35: =Model!BD42 -> 0 | N35: =Costs!H35 -> 2500000 | T35: =L35-N35+P35+R35 -> -2500000
B36: Open Space | E36: Total SF
B37: Park/Plaza | E37: =Costs!E37 -> 20000 | L37: =Model!BE43 -> 0 | N37: =Costs!H37 -> 1850000 | R37: =Costs!L37 -> 925000 | T37: =L37-N37+P37+R37 -> -925000
B38: Sports Fields | E38: =Costs!E38 -> 10000 | L38: =Model!BE44 -> 0 | N38: =Costs!H38 -> 975000 | R38: =Costs!L38 -> 488000 | T38: =L38-N38+P38+R38 -> -487000
B39: Skate Park | E39: =Costs!E39 -> 0 | L39: =Model!BE45 -> 0 | N39: =Costs!H39 -> 0 | R39: =Costs!L39 -> 0 | T39: =L39-N39+P39+R39 -> 0
B40: TOTAL | L40: =SUM(L6:L39) -> 308611000 | M40: =SUM(M6:M39) -> 0 | N40: =SUM(N6:N39) -> 2.49865e+08 | O40: =SUM(O6:O39) -> 0 | P40: =SUM(P6:P39) -> 0 | Q40: =SUM(Q6:Q39) -> 0 | R40: =SUM(R6:R39) -> 3162000 | S40: =SUM(S6:S39) -> 0 | T40: =SUM(T6:T39) -> 61908000
N42: Developer Return Summary
N43: Market Value | T43: =L40 -> 308611000
...

Sheet City Revenue
A1: URBANPLAN: CITY REVENUE
F4: Market-Rate Value/Unit | G4: Market-Rate Value | H4: Affordable Value/Unit | I4: Affordable Value | J4: X Value | K4: = Value | L4: Annual City Property/Sales Tax Revenues | M4: Annual City Operating Costs | N4: Revenue over 10-year Period
B5: Residential | C5: Market-Rate | D5: Affordable | E5: Total Units | J5: Value/Unit
B6: Townhouses | C6: =Costs!C6 -> 68 | D6: =Costs!D6 -> 4 | E6: =Costs!E6 -> 72 | F6: =IFERROR(G6/C6,0) -> 532867.65 | G6: =Model!AZ25 -> 36235000 | H6: 0 | I6: =Model!BA25 -> 587000 | J6: =ROUND(IFERROR(K6/E6,0),2) -> 511416.67 | K6: =G6+I6 -> 36822000 | L6: =Model!BV25 -> 226000 | M6: =Model!CA25 -> 0 | N6: =SUM(L6:M6)*10 -> 2260000
B7: Podium Apartments 1 | C7: =Costs!C7 -> 96 | D7: =Costs!D7 -> 24 | E7: =Costs!E7 -> 120 | F7: =IFERROR(G7/C7,0) -> 277197.92 | G7: =Model!AZ26 -> 26611000 | H7: 0 | I7: =Model!BA26 -> 2016000 | J7: =ROUND(IFERROR(K7/E7,0),2) -> 238558.33 | K7: =G7+I7 -> 28627000 | L7: =Model!BV26 -> 166000 | M7: =Model!CA26 -> 0 | N7: =SUM(L7:M7)*10 -> 1660000
B8: Podium Apartments 2 | C8: =Costs!C8 -> 48 | D8: =Costs!D8 -> 12 | E8: =Costs!E8 -> 60 | F8: =IFERROR(G8/C8,0) -> 341187.5 | G8: =Model!AZ27 -> 16377000 | H8: 0 | I8: =Model!BA27 -> 1279000 | J8: =ROUND(IFERROR(K8/E8,0),2) -> 294266.67 | K8: =G8+I8 -> 17656000 | L8: =Model!BV27 -> 102000 | M8: =Model!CA27 -> 0 | N8: =SUM(L8:M8)*10 -> 1020000
B9: Luxury Condos 1 | C9: =Costs!C9 -> 0 | D9: =Costs!D9 -> 0 | E9: =Costs!E9 -> 0 | F9: =IFERROR(G9/C9,0) -> 0 | G9: =Model!AZ28 -> 0 | H9: 0 | I9: =Model!BA28 -> 0 | J9: =ROUND(IFERROR(K9/E9,0),2) -> 0 | K9: =G9+I9 -> 0 | L9: =Model!BV28 -> 0 | M9: =Model!CA28 -> 0 | N9: =SUM(L9:M9)*10 -> 0
B10: Luxury Condos 2 | C10: =Costs!C10 -> 56 | D10: =Costs!D10 -> 0 | E10: =Costs!E10 -> 56 | F10: =IFERROR(G10/C10,0) -> 726500 | G10: =Model!AZ29 -> 40684000 | H10: 0 | I10: =Model!BA29 -> 0 | J10: =ROUND(IFERROR(K10/E10,0),2) -> 726500 | K10: =G10+I10 -> 40684000 | L10: =Model!BV29 -> 236000 | M10: =Model!CA29 -> 0 | N10: =SUM(L10:M10)*10 -> 2360000
B11: Phoenix Hotel | C11: =Costs!C11 -> 0 | D11: =Costs!D11 -> 0 | E11: =Costs!E11 -> 0 | F11: =IFERROR(G11/C11,0) -> 0 | G11: =Model!AZ40 -> 0 | H11: 0 | I11: =Model!BA40 -> 0 | J11: =ROUND(IFERROR(K11/E11,0),2) -> 0 | K11: =G11+I11 -> 0 | L11: =Model!BV40 -> 0 | M11: =Model!CA40 -> 0 | N11: =SUM(L11:M11)*10 -> 0
B12: York Dry Goods | C12: =Costs!C12 -> 28 | D12: =Costs!D12 -> 2 | E12: =Costs!E12 -> 30 | F12: =IFERROR(G12/C12,0) -> 403071.43 | G12: =Model!AZ41 -> 11286000 | H12: 0 | I12: =Model!BA41 -> 180000 | J12: =ROUND(IFERROR(K12/E12,0),2) -> 382200 | K12: =G12+I12 -> 11466000 | L12: =Model!BV41 -> 70000 | M12: =Model!CA41 -> 0 | N12: =SUM(L12:M12)*10 -> 700000
B13: Victorian Row | C13: =Costs!C13 -> 38 | D13: =Costs!D13 -> 2 | E13: =Costs!E13 -> 40 | F13: =IFERROR(G13/C13,0) -> 396868.42 | G13: =Model!AZ42 -> 15081000 | H13: 0 | I13: =Model!BA42 -> 250000 | J13: =ROUND(IFERROR(K13/E13,0),2) -> 383275 | K13: =G13+I13 -> 15331000 | L13: =Model!BV42 -> 94000 | M13: =Model!CA42 -> 0 | N13: =SUM(L13:M13)*10 -> 940000
B14: Office | E14: Building SF | J14: Value/SF
B15: Phoenix Hotel | E15: =Costs!E15 -> 0 | J15: =ROUND(IFERROR(K15/E15,0),2) -> 0 | K15: =Model!AY40 -> 0 | L15: =Model!BU40 -> 0 | N15: =SUM(L15:M15)*10 -> 0
B16: York Dry Goods | E16: =Costs!E16 -> 3500 | J16: =ROUND(IFERROR(K16/E16,0),2) -> 312.57 | K16: =Model!AY41 -> 1094000 | L16: =Model!BU41 -> 6000 | N16: =SUM(L16:M16)*10 -> 60000
B17: Victorian Row | E17: =Costs!E17 -> 10000 | J17: =ROUND(IFERROR(K17/E17,0),2) -> 300 | K17: =Model!AY42 -> 3000000 | L17: =Model!BU42 -> 16000 | N17: =SUM(L17:M17)*10 -> 160000
B18: Low-Rise Office 1 | E18: =Costs!E18 -> 45000 | J18: =ROUND(IFERROR(K18/E18,0),2) -> 407.82 | K18: =Model!AY31 -> 18352000 | L18: =Model!BU31 -> 114000 | N18: =SUM(L18:M18)*10 -> 1140000
B19: Low-Rise Office 2 | E19: =Costs!E19 -> 60000 | J19: =ROUND(IFERROR(K19/E19,0),2) -> 407.82 | K19: =Model!AY32 -> 24469000 | L19: =Model!BU32 -> 152000 | N19: =SUM(L19:M19)*10 -> 1520000
B20: Mid-Rise Office 1 | E20: =Costs!E20 -> 0 | J20: =ROUND(IFERROR(K20/E20,0),2) -> 0 | K20: =Model!AY33 -> 0 | L20: =Model!BU33 -> 0 | N20: =SUM(L20:M20)*10 -> 0
B21: Mid-Rise Office 2 | E21: =Costs!E21 -> 120000 | J21: =ROUND(IFERROR(K21/E21,0),2) -> 600.78 | K21: =Model!AY34 -> 72094000 | L21: =Model!BU34 -> 449000 | N21: =SUM(L21:M21)*10 -> 4490000
B22: Retail | E22: Building SF | J22: Value/SF
B23: Phoenix Hotel | E23: =Costs!E23 -> 0 | J23: =ROUND(IFERROR(K23/E23,0),2) -> 0 | K23: =Model!BB40 -> 0 | L23: =Model!BW40 -> 0 | N23: =SUM(L23:M23)*10 -> 0
B24: York Dry Goods | E24: =Costs!E24 -> 5000 | J24: =ROUND(IFERROR(K24/E24,0),2) -> 325 | K24: =Model!BB41 -> 1625000 | L24: =Model!BW41 -> 33000 | N24: =SUM(L24:M24)*10 -> 330000
B25: Victorian Row | E25: =Costs!E25 -> 5000 | J25: =ROUND(IFERROR(K25/E25,0),2) -> 312.6 | K25: =Model!BB42 -> 1563000 | L25: =Model!BW42 -> 31000 | N25: =SUM(L25:M25)*10 -> 310000
B26: Neighborhood Retail | E26: =Costs!E29 -> 40000 | J26: =ROUND(IFERROR(K26/E26,0),2) -> 325 | K26: =Model!BB35+Model!BB36 -> 13000000 | L26: =Model!BW35+Model!BW36 -> 260000 | N26: =SUM(L26:M26)*10 -> 2600000
B27: Retail in Mid-Rise Office 2 | E27: =Costs!E26 -> 5000 | J27: =ROUND(IFERROR(K27/E27,0),2) -> 596.2 | K27: =Model!BB34 -> 2981000 | L27: =Model!BW34 -> 60000 | N27: =SUM(L27:M27)*10 -> 600000
B28: Retail in Podium Apartments 2 | E28: =Costs!E27 -> 5000 | J28: =ROUND(IFERROR(K28/E28,0),2) -> 252 | K28: =Model!BB27 -> 1260000 | L28: =Model!BW27 -> 25000 | N28: =SUM(L28:M28)*10 -> 250000
B29: Retail in Luxury Condo 2 | E29: =Costs!E28 -> 5000 | J29: =ROUND(IFERROR(K29/E29,0),2) -> 469.8 | K29: =Model!BB29 -> 2349000 | L29: =Model!BW29 -> 47000 | N29: =SUM(L29:M29)*10 -> 470000
B30: Supermarket | E30: =Costs!E30 -> 40000 | J30: =ROUND(IFERROR(K30/E30,0),2) -> 390.63 | K30: =Model!BB37 -> 15625000 | L30: =Model!BW37 -> 130000 | N30: =SUM(L30:M30)*10 -> 1300000
B31: Q-Mart | E31: =Costs!E31 -> 0 | J31: =ROUND(IFERROR(K31/E31,0),2) -> 0 | K31: =Model!BB38 -> 0 | L31: =Model!BW38 -> 0 | N31: =SUM(L31:M31)*10 -> 0
B32: Community and "Rent-Free" Facilities | D32: Beds | E32: Building SF | J32: Total Value
B33: York Dry Goods: Subsidized Community Facilities | E33: =Costs!E33 -> 3500 | J33: =ROUND(IFERROR(K33/E33,0),2) -> 175.14 | K33: =Model!BC41 -> 613000 | M33: =-Model!BZ41 -> -46000 | N33: =SUM(L33:M33)*10 -> -460000
B34: York Dry Goods: Rent-Free Community Facilities | E34: =Costs!E34 -> 0
B35: Victorian Row: Rent-Free Community Facilities | E35: =Costs!E35 -> 10000
B36: Phoenix Hotel: Homeless Shelter | D36: =Costs!D43 -> 0 | E36: =Costs!E43 -> 0
B37: New Homeless Shelter | D37: =Costs!D44 -> 120 | E37: =Costs!E44 -> 60000
B38: Open Space | E38: Total SF
B39: Park/Plaza | E39: =Costs!E37 -> 20000 | M39: =-Model!BZ43 -> -49950 | N39: =SUM(L39:M39)*10 -> -499500
B40: Sports Courts | E40: =Costs!E38 -> 10000 | M40: =-Model!BZ44 -> -24375 | N40: =SUM(L40:M40)*10 -> -243750
B41: Skate Park | E41: =Costs!E39 -> 0 | M41: =-Model!BZ45 -> 0 | N41: =SUM(L41:M41)*10 -> 0
B42: TOTAL | K42: =SUM(K6:K41) -> 308611000 | L42: =SUM(L6:L41) -> 2217000 | M42: =SUM(M6:M41) -> -120325 | N42: =SUM(N6:N41) -> 20966750
...

Sheet Jobs
A1: URBANPLAN: JOBS
D3: Jobs by Type | K3: Job Ratios
C4: Building Square Feet | D4: Part-Time Entry Level | E4: Full-Time Entry Level | F4: Mid-Paying | G4: High-Paying | H4: Total Jobs | J4: Bldgs | K4: PT Entry/Building | L4: FT Entry/Building | M4: Mid/Bldg | N4: High/Building
B6: Office
B7: Phoenix Hotel | C7: =Model!AE40 -> 0 | D7: =ROUND(IFERROR($C7/K7,0),0) -> 0 | E7: =ROUND(IFERROR($C7/L7,0),0) -> 0 | F7: =ROUND(IFERROR($C7/M7,0),0) -> 0 | G7: =ROUND(IFERROR($C7/N7,0),0) -> 0 | H7: =SUM(D7:G7) -> 0 | K7: 4500 | L7: 1500 | M7: 600 | N7: 3000
B8: York Dry Goods | C8: =Model!AE41 -> 3500 | D8: =ROUND(IFERROR($C8/K8,0),0) -> 1 | E8: =ROUND(IFERROR($C8/L8,0),0) -> 2 | F8: =ROUND(IFERROR($C8/M8,0),0) -> 6 | G8: =ROUND(IFERROR($C8/N8,0),0) -> 1 | H8: =SUM(D8:G8) -> 10 | K8: 4500 | L8: 1500 | M8: 600 | N8: 3000
B9: Victorian Row | C9: =Model!AE42 -> 10000 | D9: =ROUND(IFERROR($C9/K9,0),0) -> 2 | E9: =ROUND(IFERROR($C9/L9,0),0) -> 7 | F9: =ROUND(IFERROR($C9/M9,0),0) -> 17 | G9: =ROUND(IFERROR($C9/N9,0),0) -> 3 | H9: =SUM(D9:G9) -> 29 | K9: 4500 | L9: 1500 | M9: 600 | N9: 3000
B10: Low-Rise Office | C10: =Model!AE31+Model!AE32 -> 105000 | D10: =ROUND(IFERROR($C10/K10,0),0) -> 23 | E10: =ROUND(IFERROR($C10/L10,0),0) -> 70 | F10: =ROUND(IFERROR($C10/M10,0),0) -> 175 | G10: =ROUND(IFERROR($C10/N10,0),0) -> 35 | H10: =SUM(D10:G10) -> 303 | K10: 4500 | L10: 1500 | M10: 600 | N10: 3000
B11: Mid-Rise Office | C11: =Model!AE33+Model!AE34 -> 120000 | D11: =ROUND(IFERROR($C11/K11,0),0) -> 27 | E11: =ROUND(IFERROR($C11/L11,0),0) -> 80 | F11: =ROUND(IFERROR($C11/M11,0),0) -> 200 | G11: =ROUND(IFERROR($C11/N11,0),0) -> 40 | H11: =SUM(D11:G11) -> 347 | K11: 4500 | L11: 1500 | M11: 600 | N11: 3000
B12: Total Office | C12: =SUM(C7:C11) -> 238500 | D12: =SUM(D7:D11) -> 53 | E12: =SUM(E7:E11) -> 159 | F12: =SUM(F7:F11) -> 398 | G12: =SUM(G7:G11) -> 79 | H12: =SUM(H7:H11) -> 689
B14: Retail
B15: Phoenix Hotel | C15: =Model!AH40 -> 0 | D15: =$J15*K15 -> 0 | E15: =$J15*L15 -> 0 | F15: =$J15*M15 -> 0 | G15: =$J15*N15 -> 0 | H15: =SUM(D15:G15) -> 0 | J15: =C15/5000 -> 0 | K15: 6 | L15: 8 | M15: 3 | N15: 0
B16: York Dry Goods | C16: =Model!AH41 -> 5000 | D16: =$J16*K16 -> 6 | E16: =$J16*L16 -> 8 | F16: =$J16*M16 -> 3 | G16: =$J16*N16 -> 0 | H16: =SUM(D16:G16) -> 17 | J16: =C16/5000 -> 1 | K16: 6 | L16: 8 | M16: 3 | N16: 0
B17: Victorian Row | C17: =Model!AH42 -> 5000 | D17: =$J17*K17 -> 6 | E17: =$J17*L17 -> 8 | F17: =$J17*M17 -> 3 | G17: =$J17*N17 -> 0 | H17: =SUM(D17:G17) -> 17 | J17: =C17/5000 -> 1 | K17: 6 | L17: 8 | M17: 3 | N17: 0
B18: Neighborhood Retail | C18: =Model!AH47-SUM(C15:C17,C19:C20) -> 55000 | D18: =$J18*K18 -> 66 | E18: =$J18*L18 -> 88 | F18: =$J18*M18 -> 33 | G18: =$J18*N18 -> 0 | H18: =SUM(D18:G18) -> 187 | J18: =C18/5000 -> 11 | K18: 6 | L18: 8 | M18: 3 | N18: 0
B19: Supermarket | C19: =Model!AH37 -> 40000 | D19: =$J19*K19 -> 70 | E19: =$J19*L19 -> 120 | F19: =$J19*M19 -> 9 | G19: =$J19*N19 -> 1 | H19: =SUM(D19:G19) -> 200 | J19: =Model!I37 -> 1 | K19: 70 | L19: 120 | M19: 9 | N19: 1
B20: Q-Mart | C20: =Model!AH38 -> 0 | D20: =$J20*K20 -> 0 | E20: =$J20*L20 -> 0 | F20: =$J20*M20 -> 0 | G20: =$J20*N20 -> 0 | H20: =SUM(D20:G20) -> 0 | J20: =Model!I38 -> 0 | K20: 140 | L20: 240 | M20: 18 | N20: 2
B21: Total Retail | C21: =SUM(C15:C20) -> 105000 | D21: =SUM(D15:D20) -> 148 | E21: =SUM(E15:E20) -> 224 | F21: =SUM(F15:F20) -> 48 | G21: =SUM(G15:G20) -> 1 | H21: =SUM(H15:H20) -> 421
B23: Residential
B24: Podium Apartments 1 | C24: =Model!AF26+Model!AG26 -> 160000 | D24: =$J24*K24 -> 4 | E24: =$J24*L24 -> 4 | F24: =$J24*M24 -> 2 | G24: =$J24*N24 -> 0 | H24: =SUM(D24:G24) -> 10 | J24: =Model!I26 -> 2 | K24: 2 | L24: 2 | M24: 1 | N24: 0
B25: Podium Apartments 2 | C25: =Model!AF27+Model!AG27 -> 80000 | D25: =$J25*K25 -> 2 | E25: =$J25*L25 -> 2 | F25: =$J25*M25 -> 1 | G25: =$J25*N25 -> 0 | H25: =SUM(D25:G25) -> 5 | J25: =Model!I27 -> 1 | K25: 2 | L25: 2 | M25: 1 | N25: 0
B26: Luxury Condos 1 | C26: =Model!AF28+Model!AG28 -> 0 | D26: =$J26*K26 -> 0 | E26: =$J26*L26 -> 0 | F26: =$J26*M26 -> 0 | G26: =$J26*N26 -> 0 | H26: =SUM(D26:G26) -> 0 | J26: =Model!I28 -> 0 | K26: 3 | L26: 4 | M26: 1 | N26: 0
B27: Luxury Condos 2 | C27: =Model!AF29+Model!AG29 -> 80000 | D27: =$J27*K27 -> 3 | E27: =$J27*L27 -> 4 | F27: =$J27*M27 -> 1 | G27: =$J27*N27 -> 0 | H27: =SUM(D27:G27) -> 8 | J27: =Model!I29 -> 1 | K27: 3 | L27: 4 | M27: 1 | N27: 0
B28: Phoenix Hotel | C28: =Model!AF40+Model!AG40 -> 0 | D28: =$J28*K28 -> 0 | E28: =$J28*L28 -> 0 | F28: =$J28*M28 -> 0 | G28: =$J28*N28 -> 0 | H28: =SUM(D28:G28) -> 0
B29: York Dry Goods | C29: =Model!AF41+Model!AG41 -> 36000 | D29: =$J29*K29 -> 0 | E29: =$J29*L29 -> 0 | F29: =$J29*M29 -> 0 | G29: =$J29*N29 -> 0 | H29: =SUM(D29:G29) -> 0
B30: Victorian Row | C30: =Model!AF42+Model!AG42 -> 50000 | D30: =$J30*K30 -> 0 | E30: =$J30*L30 -> 0 | F30: =$J30*M30 -> 0 | G30: =$J30*N30 -> 0 | H30: =SUM(D30:G30) -> 0
B31: Total Residential | C31: =SUM(C24:C30) -> 406000 | D31: =SUM(D24:D30) -> 9 | E31: =SUM(E24:E30) -> 10 | F31: =SUM(F24:F30) -> 4 | G31: =SUM(G24:G30) -> 0 | H31: =SUM(H24:H30) -> 23
B33: Community and Rent-Free Facilities
B34: York Dry Goods | C34: =Model!AI41+Model!AJ41 -> 3500 | D34: =SUM(D50:D62) -> 1 | E34: =SUM(E50:E62) -> 3 | F34: =SUM(F50:F62) -> 1 | G34: =SUM(G50:G62) -> 0 | H34: =SUM(D34:G34) -> 5
B35: Victorian Row | C35: =Model!AI42+Model!AJ42 -> 10000 | D35: =SUM(D64:D65) -> 12 | E35: =SUM(E64:E65) -> 1 | F35: =SUM(F64:F65) -> 1 | G35: =SUM(G64:G65) -> 0 | H35: =SUM(D35:G35) -> 14
B36: Homeless Shelter | C36: =Model!AK47 -> 60000 | D36: =$J36*K36 -> 2 | E36: =$J36*L36 -> 7 | F36: =$J36*M36 -> 2 | G36: =$J36*N36 -> 1 | H36: =SUM(D36:G36) -> 12 | J36: =Model!I30+Model!I39 -> 1 | K36: 2 | L36: 7 | M36: 2 | N36: 1
B37: Total Community and Rent-Free Facilities | C37: =SUM(C34:C36) -> 73500 | D37: =SUM(D34:D36) -> 15 | E37: =SUM(E34:E36) -> 11 | F37: =SUM(F34:F36) -> 4 | G37: =SUM(G34:G36) -> 1 | H37: =SUM(H34:H36) -> 31
B39: Open Space
B40: Park/Plaza | C40: =Model!AL43 -> 20000 | D40: =$J40*K40 -> 4 | E40: =$J40*L40 -> 0 | F40: =$J40*M40 -> 0 | G40: =$J40*N40 -> 0 | H40: =SUM(D40:G40) -> 4 | J40: =C40/5000 -> 4 | K40: 1 | L40: 0 | M40: 0 | N40: 0
B41: Sports Courts | C41: =Model!AL44 -> 10000 | D41: =$J41*K41 -> 2 | E41: =$J41*L41 -> 0 | F41: =$J41*M41 -> 0 | G41: =$J41*N41 -> 0 | H41: =SUM(D41:G41) -> 2 | J41: =C41/5000 -> 2 | K41: 1 | L41: 0 | M41: 0 | N41: 0
B42: Skate Park | C42: =Model!AL45 -> 0 | D42: =$J42*K42 -> 0 | E42: =$J42*L42 -> 0 | F42: =$J42*M42 -> 0 | G42: =$J42*N42 -> 0 | H42: =SUM(D42:G42) -> 0 | J42: =C42/5000 -> 0 | K42: 1 | L42: 0 | M42: 0 | N42: 0
B43: Total Open Space | C43: =SUM(C40:C42) -> 30000 | D43: =SUM(D40:D42) -> 6 | E43: =SUM(E40:E42) -> 0 | F43: =SUM(F40:F42) -> 0 | G43: =SUM(G40:G42) -> 0 | H43: =SUM(H40:H42) -> 6
B45: Total | C45: =C12+C21+C31+C37+C43 -> 853000 | D45: =D12+D21+D31+D37+D43 -> 231 | E45: =E12+E21+E31+E37+E43 -> 404 | F45: =F12+F21+F31+F37+F43 -> 454 | G45: =G12+G21+G31+G37+G43 -> 81 | H45: =H12+H21+H31+H37+H43 -> 1170
B48: Community Facilities | K48: Job Ratios
B49: York Dry Goods | K49: PT Entry/Building | L49: FT Entry/Building | M49: Mid/Bldg | N49: High/Building
...

Sheet Scorecard
A2: Team's Name | B2: =Summary!C4 -> Name | C2: <== COPY AND PASTE THE VALUES OF THE GREEN SECTION TO THE MASTER MODEL TO BUILD THE SCORECARD
A3: Profit ($) | B3: =Summary!H18 -> 40408810
A4: Rate of Return (%) >= 13.5% | B4: =Summary!H19 -> 0.15066547
A5: City Return ($) >= $9.5mm | B5: =Summary!H28 -> 12804750
A6: Total Jobs Created | B6: =Summary!H48 -> 1170
A7: # of Part-Time Entry Level | B7: =Summary!H44 -> 231
A8: # of Full-Time Entry Level | B8: =Summary!H45 -> 404
A9: # of Mid-Paying | B9: =Summary!H46 -> 454
A10: # of High-Paying | B10: =Summary!H47 -> 81
A11: Total Housing Units | B11: =Summary!G53 -> 378
A12: # of Market-Rate Units | B12: =Summary!G51 -> 334
A13: # of Affordable Units | B13: =Summary!G52 -> 44
A14: Affordable Housing (%) >=10% | B14: =Summary!H52 -> 0.11640212
A15: Homeless Shelter (none - rehab in Phoenix - new) | B15: =CONCATENATE(IF(Model!I39>0,"Rehab",""),IF(Model!I30>0,"New",""),IF(Model!I30+Model!I39=0,"None","")) -> New
A16: Supermarket/Q-Mart/Neither | B16: =CONCATENATE(IF(Model!I37>0,"Supermarket ",""),IF(Model!I38>0,"Q-Mart",""),IF(SUM(Model!I37:I38)=0,"Neither","")) -> Supermarket
A17: Sum of Community Facilities in York Dry Goods (SF) | B17: =SUM(Summary!C46:C57) -> 3500
A18: Sum of Rent-Free Community Space (SF) | B18: =SUM(Summary!D58:D62) -> 10000
A19: Total Open Space (%) | B19: =Summary!H37 -> 0.06
A20: Park/Plaza (SF) | B20: =Summary!G34 -> 20000
A21: Sports Fields & Courts (SF) | B21: =Summary!G35 -> 10000
A22: Skate Park (SF) | B22: =Summary!G36 -> 0
A23: Net Zero Building % | B23: ='Use Allocation'!J6 -> 0.2
A24: Absorption (are any uses overbuilt?) | B24: =IF(COUNTIF(Market!H5:H27,">0"),"Yes","No") -> No
A25: Jobs/Housing Ratio | B25: =Summary!H58 -> 3 to 1

Sheet =>>
A1: MODEL DRIVERS =>>

Sheet Model
A1: URBANPLAN FINANCIAL MODEL
A3: City Subsidies | C3: % | E3: Input Costs | H3: $ | J3: Shelter Outcomes | L3: $
A4: Affordable Housing | C4: 0.15 | E4: City Land Purchase | H4: 25000000 | J4: Shelter: Relocation Fee | L4: =IF((I30+I39)=0,-H6,0) -> 0
A5: Open Space | C5: 0.5 | E5: Developer Land Fee | H5: 20000000 | J5: Shelter: Church Contribution | L5: =$H$7*(I30+I39) -> 0
A6: Community Facilities | C6: 0.15 | E6: Shelter Relocation Fee | H6: 1000000 | J6: Shelter Total Beds | L6: 120
A11: MODEL BELOW
A13: Massing | C13: Block 1 | D13: Block 2 | E13: Block 3 | F13: Block 4 | G13: Block 5 | H13: Block 6 | I13: Total
A14: Block Size | C14: 120000 | D14: 120000 | E14: 80000 | F14: 80000 | G14: 60000 | H14: 40000 | I14: =SUM(C14:H14) -> 500000
A15: Planned | C15: {=SUMPRODUCT(--(C25:C45),($J$25:$J$45))} -> 120000 | D15: {=SUMPRODUCT(--(D25:D45),($J$25:$J$45))} -> 120000 | E15: {=SUMPRODUCT(--(E25:E45),($J$25:$J$45))} -> 80000 | F15: {=SUMPRODUCT(--(F25:F45),($J$25:$J$45))} -> 80000 | G15: {=SUMPRODUCT(--(G25:G45),($J$25:$J$45))} -> 60000 | H15: {=SUMPRODUCT(--(H25:H45),($J$25:$J$45))} -> 40000 | I15: =SUM(C15:H15) -> 500000
A16: Over(Under) | C16: =C15-C14 -> 0 | D16: =D15-D14 -> 0 | E16: =E15-E14 -> 0 | F16: =F15-F14 -> 0 | G16: =G15-G14 -> 0 | H16: =H15-H14 -> 0 | I16: =SUM(C16:H16) -> 0
A18: Site Allocation | C18: Block 1 | D18: Block 2 | E18: Block 3 | F18: Block 4 | G18: Block 5 | H18: Block 6 | I18: Total
A19: Building Footprint | C19: =C15-C20 -> 80000 | D19: =D15-D20 -> 100000 | E19: =E15-E20 -> 65000 | F19: =F15-F20 -> 80000 | G19: =G15-G20 -> 50000 | H19: =H15-H20 -> 40000 | I19: =SUM(C19:H19) -> 415000
A20: Parking Footprint | C20: {=SUMPRODUCT(--(C25:C45),($K$25:$K$45))} -> 40000 | D20: {=SUMPRODUCT(--(D25:D45),($K$25:$K$45))} -> 20000 | E20: {=SUMPRODUCT(--(E25:E45),($K$25:$K$45))} -> 15000 | F20: {=SUMPRODUCT(--(F25:F45),($K$25:$K$45))} -> 0 | G20: {=SUMPRODUCT(--(G25:G45),($K$25:$K$45))} -> 10000 | H20: {=SUMPRODUCT(--(H25:H45),($K$25:$K$45))} -> 0 | I20: =SUM(C20:H20) -> 85000
A21: Planned | C21: =SUM(C19:C20) -> 120000 | D21: =SUM(D19:D20) -> 120000 | E21: =SUM(E19:E20) -> 80000 | F21: =SUM(F19:F20) -> 80000 | G21: =SUM(G19:G20) -> 60000 | H21: =SUM(H19:H20) -> 40000 | I21: =SUM(C21:H21) -> 500000
A23: SITE BUILDER | M23: Building Breakout Costs | V23: City Cost | AA23: Housing Units | AE23: SF | AN23: Parking | AS23: Value Creation | AY23: Value | BF23: Absorption | BP23: Tax | BY23: Subsidy
A24: Type | B24: Building | C24: Block 1 | D24: Block 2 | E24: Block 3 | F24: Block 4 | G24: Block 5 | H24: Block 6 | I24: Building Count | J24: Per Unit Site Area | K24: Parking Footprint | L24: Cost | M24: Office | N24: Residential Market-Rate | O24: Residential Affordable | P24: Retail | Q24: Subsidized Community | R24: Rent-Free Community | S24: Shelter | T24: Open Space | U24: cost check | V24: Affordable | W24: Open Space | X24: Subsidized Community | Y24: Total City Cost | Z24: City Percentage of Total Cost | AA24: Affordable % | AB24: Market | AC24: Affordable | AD24: Total | AE24: Office | AF24: Residential Market-Rate | AG24: Residential Affordable | AH24: Retail | AI24: Subsidized Community | AJ24: Rent-Free Community | AK24: Shelter | AL24: Open Space | AM24: Total Rentable SF | AN24: Surface Parking Units | AO24: Structured Parking Units | AP24: Subterranean Parking Units | AQ24: Total Parking Units | AR24: Parking Footprint | AS24: Office | AT24: Residential Market-Rate | AU24: Residential Affordable | AV24: Retail | AW24: Subsidized Community | AX24: Rent-Free Community | AY24: Office | AZ24: Residential Market-Rate | BA24: Residential Affordable | BB24: Retail | BC24: Subsidized Community | BD24: Rent-Free Community | BE24: Total Value | BF24: Penalty Multiplier | BG24: Margin | BH24: % of Value Penalty | BI24: Office Penalty % | BJ24: Residential Market-Rate Penalty % | BK24: Retail Penalty % | BL24: Office Penalty $ | BM24: Residential Market-Rate Penalty $ | BN24: Retail Penalty $ | BO24: Total Absorption Penalty $ | BP24: Office Tax Rate | BQ24: Residential Market-Rate Tax Rate | BR24: Residential Affordable Tax Rate | BS24: Retail Tax Rate | BT24: Rent-Free Space Tax Rate | BU24: Office Tax | BV24: Residential Market-Rate Tax | BW24: Retail Tax | BX24: Total Tax | BY24: City Subsidy Rate | BZ24: City Subsidy | CA24: Residential Affordable Subsidy
A25: Residential | B25: Townhouses | C25: ='Block Builder'!C6 -> 0 | D25: ='Block Builder'!D6 -> 3 | E25: ='Block Builder'!E6 -> 3 | F25: ='Block Builder'!F6 -> 0 | G25: ='Block Builder'!G6 -> 0 | H25: ='Block Builder'!H6 -> 3 | I25: =SUM(C25:H25) -> 9 | J25: {=SUMPRODUCT(--('Building Summary'!$A$2:$A$23=Model!$B25),('Building Summary'!$P$2:$P$23))} -> 10000 | K25: {=SUMPRODUCT(--('Building Summary'!$A$2:$A$23=Model!$B25),('Building Summary'!$R$2:$R$23))} -> 0 | L25: {=$I25*SUMPRODUCT(--(sBuilding=B25),(sBuilding_Cost))} -> 29340000 | N25: =IF($L25>0,$L25*(AF25/$AM25),0) -> 27873000 | O25: =IF($L25>0,$L25*(AG25/$AM25),0) -> 1467000 | U25: =SUM(M25:T25)-L25 -> 0 | V25: =ROUND(IFERROR(AG25/AM25,0)*$C$4*L25,-3) -> 220000 | Y25: =SUM(V25:X25) -> 220000 | Z25: =IFERROR(SUM(V25:X25)/L25,0) -> 0.0074982958 | AA25: ='Use Allocation'!$E$5 -> 0.05 | AB25: =AD25-AC25 -> 68 | AC25: =ROUND(AD25*AA25,0) -> 4 | AD25: {=I25*SUMPRODUCT(--(sBuilding=$B25),(sResiUnitCount))} -> 72 | AE25: {=$I25*SUMPRODUCT(--(sBuilding=$B25),(sOfficeSF))} -> 0 | AF25: {=(1-AA25)*$I25*SUMPRODUCT(--(sBuilding=$B25),(sResiSF))} -> 171000 | AG25: {=AA25*$I25*SUMPRODUCT(--(sBuilding=$B25),(sResiSF))} -> 9000 | AH25: {=$I25*SUMPRODUCT(--(sBuilding=$B25),(sRetailSF))} -> 0 | AI25: {=$I25*SUMPRODUCT(--(sBuilding=$B25),(sCommunitySF))} -> 0 | AJ25: {=$I25*SUMPRODUCT(--(sBuilding=$B25),(sCommunity_Commercial_SF))} -> 0 | AK25: {=$I25*SUMPRODUCT(--(sBuilding=$B25),(sShelter_SF))} -> 0 | AL25: {=$I25*SUMPRODUCT(--(sBuilding=$B25),(sOpenSpace))} -> 0 | AM25: =SUM(AE25:AK25) -> 180000 | AN25: {=$I25*SUMPRODUCT(--(sBuilding=$B25),(sParking_Surface))} -> 0 | AO25: {=$I25*SUMPRODUCT(--(sBuilding=$B25),(sParking_Structured))} -> 144 | AP25: {=$I25*SUMPRODUCT(--(sBuilding=$B25),(sParking_Subterranean))} -> 0 | AQ25: {=$I25*SUMPRODUCT(--(sBuilding=$B25),(sParking_TotalUnits))} -> 144 | AR25: {=$I25*SUMPRODUCT(--(sBuilding=$B25),(sParking_Footprint))} -> 0 | AT25: 1.3 | AU25: 0.4 | AV25: 1.3 | AZ25: =ROUND(N25*AT25,-3) -> 36235000 | BA25: =ROUND(O25*AU25,-3) -> 587000 | BB25: =ROUND(P25*AV25,-3) -> 0 | BC25: =ROUND(Q25*AW25,-3) -> 0 | BD25: =ROUND(R25*AX25,-3) -> 0 | BE25: =SUM(AY25:BD25) -> 36822000 | BF25: 1 | BG25: 0.3 | BJ25: =Market!$H$9*$BF25*(1-(1/(1+$BG25))) -> 0 | BL25: =ROUND(BI25*AY25,-3) -> 0 | BM25: =ROUND(BJ25*AZ25,-3) -> 0 | BN25: =ROUND(BK25*BB25,-3) -> 0 | BO25: =SUM(BL25:BN25) -> 0 | BQ25: =0.0075*0.83 -> 0.006225 | BR25: 0 | BS25: 0.02 | BV25: =ROUND(BQ25*AZ25,-3) -> 226000 | BW25: =ROUND(BS25*BB25,-3) -> 0 | BX25: =SUM(BT25:BW25) -> 226000 | CA25: =BR25*AC25 -> 0
A26: Residential | B26: Podium Apartments 1 | C26: ='Block Builder'!C7 -> 0 | D26: ='Block Builder'!D7 -> 0 | E26: ='Block Builder'!E7 -> 0 | F26: ='Block Builder'!F7 -> 2 | G26: ='Block Builder'!G7 -> 0 | H26: ='Block Builder'!H7 -> 0 | I26: =SUM(C26:H26) -> 2 | J26: {=SUMPRODUCT(--('Building Summary'!$A$2:$A$23=Model!$B26),('Building Summary'!$P$2:$P$23))} -> 20000 | K26: {=SUMPRODUCT(--('Building Summary'!$A$2:$A$23=Model!$B26),('Building Summary'!$R$2:$R$23))} -> 0 | L26: {=$I26*SUMPRODUCT(--(sBuilding=B26),(sBuilding_Cost))} -> 25200000 | N26: =IF($L26>0,$L26*(AF26/$AM26),0) -> 20160000 | O26: =IF($L26>0,$L26*(AG26/$AM26),0) -> 5040000 | U26: =SUM(M26:T26)-L26 -> 0 | V26: =ROUND(IFERROR(AG26/AM26,0)*$C$4*L26,-3) -> 756000 | Y26: =SUM(V26:X26) -> 756000 | Z26: =IFERROR(SUM(V26:X26)/L26,0) -> 0.03 | AA26: ='Use Allocation'!$E$6 -> 0.2 | AB26: =AD26-AC26 -> 96 | AC26: =ROUND(AD26*AA26,0) -> 24 | AD26: {=I26*SUMPRODUCT(--(sBuilding=$B26),(sResiUnitCount))} -> 120 | AE26: {=$I26*SUMPRODUCT(--(sBuilding=$B26),(sOfficeSF))} -> 0 | AF26: {=(1-AA26)*$I26*SUMPRODUCT(--(sBuilding=$B26),(sResiSF))} -> 128000 | AG26: {=AA26*$I26*SUMPRODUCT(--(sBuilding=$B26),(sResiSF))} -> 32000 | AH26: {=$I26*SUMPRODUCT(--(sBuilding=$B26),(sRetailSF))} -> 0 | AI26: {=$I26*SUMPRODUCT(--(sBuilding=$B26),(sCommunitySF))} -> 0 | AJ26: {=$I26*SUMPRODUCT(--(sBuilding=$B26),(sCommunity_Commercial_SF))} -> 0 | AK26: {=$I26*SUMPRODUCT(--(sBuilding=$B26),(sShelter_SF))} -> 0 | AL26: {=$I26*SUMPRODUCT(--(sBuilding=$B26),(sOpenSpace))} -> 0 | AM26: =SUM(AE26:AK26) -> 160000 | AN26: {=$I26*SUMPRODUCT(--(sBuilding=$B26),(sParking_Surface))} -> 0 | AO26: {=$I26*SUMPRODUCT(--(sBuilding=$B26),(sParking_Structured))} -> 102 | AP26: {=$I26*SUMPRODUCT(--(sBuilding=$B26),(sParking_Subterranean))} -> 0 | AQ26: {=$I26*SUMPRODUCT(--(sBuilding=$B26),(sParking_TotalUnits))} -> 102 | AR26: {=$I26*SUMPRODUCT(--(sBuilding=$B26),(sParking_Footprint))} -> 0 | AT26: 1.32 | AU26: 0.4 | AV26: 1.3 | AZ26: =ROUND(N26*AT26,-3) -> 26611000 | BA26: =ROUND(O26*AU26,-3) -> 2016000 | BB26: =ROUND(P26*AV26,-3) -> 0 | BC26: =ROUND(Q26*AW26,-3) -> 0 | BD26: =ROUND(R26*AX26,-3) -> 0 | BE26: =SUM(AY26:BD26) -> 28627000 | BF26: 1 | BG26: 0.32 | BJ26: =Market!$H$10*$BF26*(1-(1/(1+$BG26))) -> 0 | BL26: =ROUND(BI26*AY26,-3) -> 0 | BM26: =ROUND(BJ26*AZ26,-3) -> 0 | BN26: =ROUND(BK26*BB26,-3) -> 0 | BO26: =SUM(BL26:BN26) -> 0 | BQ26: =0.0075*0.83 -> 0.006225 | BR26: 0 | BS26: 0.02 | BV26: =ROUND(BQ26*AZ26,-3) -> 166000 | BW26: =ROUND(BS26*BB26,-3) -> 0 | BX26: =SUM(BT26:BW26) -> 166000 | CA26: =BR26*AC26 -> 0
