Workbook

Sheet Assumptions
A1: - | B1: NAME: | C1: LDEV 668: Kent Anderson DCF Model
B3: ASSUMPTIONS
B4: Description
B5: 668 Sample: Kent Anderson DCF Model | C5: Beginning Base Lot Price | D5: Number of Lots | E5: Sales Without Escalation | F5: Total Sales with Escalation | H5: Loan Request | I5: Total Value/Cost | J5: Percent Financed | K5: Initial Amount Financed
G6: Loan Option 1 | H6: Estimated Appraised Value of Phase 1 | I6: =E7 -> 11610000 | J6: =C58 -> 0.75 | K6: =+I6*J6 -> 8707500
B7: Phase 1 | C7: =C30 -> 86000 | D7: =C31 -> 135 | E7: =C7*D7 -> 11610000 | F7: 0 | G7: Loan Option 2 | H7: Estimated Cost of Phase 1 | I7: =G37 -> 9865322.8 | J7: =C57 -> 0.85 | K7: =+I7*J7 -> 8385524.4
B8: Total | D8: =SUM(D7:D7) -> 135 | E8: =SUM(E7:E7) -> 11610000 | F8: =SUM(F7:F7) -> 0
K9: Maximum Loan
K10: =K7 -> 8385524.4
B11: Total Sales With Escalation | C11: Other Revenue | D11: Total Revenue | E11: Total Cost | F11: Profit | I11: Total
I12: Value/Cost | K12: Equity Requirement
B13: ='Sales Proceeds'!C12 -> 12858720 | C13: 0 | D13: =+B13+C13 -> 12858720 | E13: =-('Cash Flow'!C18+'Cash Flow'!C23+'Cash Flow'!C36+'Cash Flow'!C44) -> 11183553 | F13: =+D13-E13 -> 1675167.3 | G13: A&D LOAN | H13: Estimated Cost of Phase 1 | I13: 11183553 | J13: =J7 -> 0.85 | K13: =I13-K10 -> 2798028.6
F18: IRR
F20: 0
B28: Input Variables for 668 Sample
B30: Base lot price | C30: 86000
B31: Lot Yield | C31: 135
B32: Gross Acres | C32: 42 | E32: Land Cost | G32: =C32*C33 -> 3780000
B33: Per Acre Land Price | C33: 90000 | E33: Development Hard Cost | G33: =C34*C31 -> 4657500
B34: Development Hard Cost per Lot | C34: 34500 | E34: Development Soft Cost (20% of hard costs) | G34: =0.2*G33 -> 931500
B35: Appraisal | C35: 7500 | E35: Interest Expense | G35: =(G32+G33+G34)*C49*C53 -> 496322.78
B36: Loan origination fee | C36: 25000
B37: Environmental study | C37: 10000 | E37: Total Estimated Development Cost | G37: =SUM(G32:G36) -> 9865322.8
B38: Geotechnical/Materials Testing | C38: 25000
B39: Engineering/Survey/Planning | C39: 7500
B40: Closing Costs per Lot | C40: 500
B41: Construction Management Fee per lot | C41: 1000
B42: Administration Fee per month | C42: 1000
B43: Legal/Title | C43: 100000
B44: Property taxes per acre | C44: 5000
B45: Property taxes per lot = base lot value x tax rate | C45: 0.02
B46: Lot Escalation Rate | C46: 0.08
B47: Escalation Rate Increase
B48: Escalation Rate Increase Date
B49: Interest Rate on A&D Loan | C49: 0.0815
B50: A&D Loan Interest Rate Increase | C50: 0.005
B51: A&D Loan Interest Rate Increase Date | C51: Jan- Yr 3
B52: Lender's Collateral Release Rate | C52: 0.95
B53: Average Outstanding Loan Balance | C53: 0.65
B54: Earnest Money | C54: 250000
...

Sheet Sales Proceeds
A1: SALES PROCEEDS
A2: =Assumptions!B5 -> 668 Sample: Kent Anderson DCF Model
L3: A&D Loan Close | T3: First Lot Close | AD3: A&D Int Increse
C4: Total | F4: Jan- Yr 1 | G4: Feb- Yr 1 | H4: Mar- Yr 1 | I4: Apr- Yr 1 | J4: May- Yr 1 | K4: Jun- Yr 1 | L4: Jul- Yr 1 | M4: Aug- Yr 1 | N4: Sep- Yr 1 | O4: Oct- Yr 1 | P4: Nov- Yr 1 | Q4: Dec- Yr 1 | R4: Jan- Yr 2 | S4: Feb- Yr 2 | T4: Mar- Yr 2 | U4: Apr- Yr 2 | V4: May- Yr 2 | W4: Jun- Yr 2 | X4: Jul- Yr 2 | Y4: Aug- Yr 2 | Z4: Sep- Yr 2 | AA4: Oct- Yr 2 | AB4: Nov- Yr 2 | AC4: Dec- Yr 2 | AD4: Jan- Yr 3 | AE4: Feb- Yr 3 | AF4: Mar- Yr 3 | AG4: Apr- yr 3 | AH4: May- Yr 3 | AI4: Jun- Yr 3 | AJ4: Jul- Yr 3 | AK4: Aug- Yr 3 | AL4: Sep- Yr 3 | AM4: Oct- Yr 3 | AN4: Nov- Yr 3 | AO4: Dec- Yr 3 | AP4: Jan- Yr 4 | AQ4: Feb- Yr 4 | AR4: Mar- Yr 4 | AS4: Apr- Yr 4 | AT4: May- Yr 4 | AU4: Jun- Yr 4 | AV4: Jul- Yr 4 | AW4: Aug- Yr 4 | AX4: Sep- Yr 4 | AY4: Oct- Yr 4 | AZ4: Nov- Yr 4 | BA4: Dec- Yr 4
A6: Lot Takedown Schedule | C6: =SUM(P6:BA6) -> 135 | F6: 0 | G6: 0 | H6: 0 | I6: 0 | J6: 0 | K6: 0 | L6: 0 | M6: 0 | N6: 0 | O6: 0 | P6: 0 | Q6: 0 | R6: 0 | T6: =Assumptions!$C55 -> 9 | U6: 0 | W6: =Assumptions!$C56 -> 12 | X6: 0 | Z6: =Assumptions!$C56 -> 12 | AA6: 0 | AC6: =Assumptions!$C56 -> 12 | AD6: 0 | AF6: =Assumptions!$C56 -> 12 | AG6: 0 | AI6: =Assumptions!$C56 -> 12 | AJ6: 0 | AL6: =Assumptions!$C56 -> 12 | AM6: 0 | AO6: =Assumptions!$C56 -> 12 | AP6: 0 | AR6: =Assumptions!$C56 -> 12 | AS6: 0 | AU6: =Assumptions!$C56 -> 12 | AV6: 0 | AX6: =Assumptions!$C56 -> 12 | AZ6: 0 | BA6: 6
A7: Cumulative Lot Absorption | C7: 135 | F7: 0 | G7: =F7+G6 -> 0 | H7: =G7+H6 -> 0 | I7: =H7+I6 -> 0 | J7: =I7+J6 -> 0 | K7: =J7+K6 -> 0 | L7: =K7+L6 -> 0 | M7: =L7+M6 -> 0 | N7: =M7+N6 -> 0 | ... AX7: =AW7+AX6 -> 129 | AY7: 129 | AZ7: 129 | BA7: 135
E9: Months of Escalation | R9: 0 | U9: 1 | V9: =U9+1 -> 2 | W9: =V9+1 -> 3 | X9: =W9+1 -> 4 | Y9: =X9+1 -> 5 | Z9: =Y9+1 -> 6 | AA9: =Z9+1 -> 7 | AB9: =AA9+1 -> 8 | AC9: =AB9+1 -> 9 | ... BA9: =AZ9+1 -> 33
A10: Total Lot Sales Revenue | C10: =SUM(P10:BA10) -> 11610000 | F10: =F6*Assumptions!$C30 -> 0 | G10: =G6*Assumptions!$C30 -> 0 | H10: =H6*Assumptions!$C30 -> 0 | I10: =I6*Assumptions!$C30 -> 0 | J10: =J6*Assumptions!$C30 -> 0 | K10: =K6*Assumptions!$C30 -> 0 | L10: =L6*Assumptions!$C30 -> 0 | M10: =M6*Assumptions!$C30 -> 0 | ... BA10: =BA6*Assumptions!$C30 -> 516000
A11: Lot Escalation | C11: =SUM(P11:BA11) -> 1248720 | F11: 0 | G11: 0 | H11: 0 | I11: 0 | J11: 0 | K11: 0 | L11: 0 | M11: 0 | N11: 0 | O11: 0 | P11: 0 | Q11: 0 | R11: 0 | S11: 0 | T11: 0 | U11: 0 | V11: 0 | W11: =W10*Assumptions!$C46*W9/12 -> 20640 | X11: 0 | Y11: 0 | Z11: =Z10*Assumptions!$C46*Z9/12 -> 41280 | AA11: 0 | AB11: 0 | AC11: =AC10*Assumptions!$C46*AC9/12 -> 61920 | AD11: =AD10*Assumptions!$C46*AD9/12 -> 0 | AE11: =AE10*Assumptions!$C46*AE9/12 -> 0 | AF11: =AF10*Assumptions!$C46*AF9/12 -> 82560 | AG11: =AG10*Assumptions!$C46*AG9/12 -> 0 | AH11: =AH10*Assumptions!$C46*AH9/12 -> 0 | AI11: =AI10*Assumptions!$C46*AI9/12 -> 103200 | AJ11: =AJ10*Assumptions!$C46*AJ9/12 -> 0 | ... BA11: =BA10*Assumptions!$C46*BA9/12 -> 113520
A12: Total Sales With Escalation | C12: =SUM(F12:BA12) -> 12858720 | F12: =SUM(F10:F11) -> 0 | G12: =SUM(G10:G11) -> 0 | H12: =SUM(H10:H11) -> 0 | I12: =SUM(I10:I11) -> 0 | J12: =SUM(J10:J11) -> 0 | K12: =SUM(K10:K11) -> 0 | L12: =SUM(L10:L11) -> 0 | M12: =SUM(M10:M11) -> 0 | ... BA12: =SUM(BA10:BA11) -> 629520

Sheet Cash Flow
A1: -
L2: A&D Loan Close | S2: SC | T2: First lot closing | AD2: A&D Int Increse
A3: =Assumptions!B5 -> 668 Sample: Kent Anderson DCF Model | C3: Total | F3: Jan- Yr 1 | G3: Feb- Yr 1 | H3: Mar- Yr 1 | I3: Apr- Yr 1 | J3: May- Yr 1 | K3: Jun- Yr 1 | L3: Jul- Yr 1 | M3: Aug- Yr 1 | N3: Sep- Yr 1 | O3: Oct- Yr 1 | P3: Nov- Yr 1 | Q3: Dec- Yr 1 | R3: Jan- Yr 2 | S3: Feb- Yr 2 | T3: Mar- Yr 2 | U3: Apr- Yr 2 | V3: May- Yr 2 | W3: Jun- Yr 2 | X3: Jul- Yr 2 | Y3: Aug- Yr 2 | Z3: Sep- Yr 2 | AA3: Oct- Yr 2 | AB3: Nov- Yr 2 | AC3: Dec- Yr 2 | AD3: Jan- Yr 3 | AE3: Feb- Yr 3 | AF3: Mar- Yr 3 | AG3: Apr- yr 3 | AH3: May- Yr 3 | AI3: Jun- Yr 3 | AJ3: Jul- Yr 3 | AK3: Aug- Yr 3 | AL3: Sep- Yr 3 | AM3: Oct- Yr 3 | AN3: Nov- Yr 3 | AO3: Dec- Yr 3 | AP3: Jan- Yr 4 | AQ3: Feb- Yr 4 | AR3: Mar- Yr 4 | AS3: Apr- Yr 4 | AT3: May- Yr 4 | AU3: Jun- Yr 4 | AV3: Jul- Yr 4 | AW3: Aug- Yr 4 | AX3: Set- Y 4 | AY3: Oct- Yr 4 | AZ3: Nov- Yr 4 | BA3: Dec- Yr 4
A4: Cash Sources:
A5: Total Lot Sales With Escalation | C5: =SUM(F5:BA5) -> 12858720 | F5: ='Sales Proceeds'!F12 -> 0 | G5: ='Sales Proceeds'!G12 -> 0 | H5: ='Sales Proceeds'!H12 -> 0 | I5: ='Sales Proceeds'!I12 -> 0 | J5: ='Sales Proceeds'!J12 -> 0 | K5: ='Sales Proceeds'!K12 -> 0 | L5: ='Sales Proceeds'!L12 -> 0 | M5: ='Sales Proceeds'!M12 -> 0 | ... BA5: ='Sales Proceeds'!BA12 -> 629520
A6: Other | C6: =SUM(F6:BA6) -> 0 | F6: 0 | G6: 0 | H6: 0 | I6: 0 | J6: 0 | K6: 0 | L6: 0 | M6: 0 | N6: 0 | O6: 0 | P6: 0 | Q6: 0 | R6: 0 | S6: 0 | T6: 0 | U6: 0 | V6: 0 | W6: 0 | X6: 0 | Y6: 0 | Z6: 0 | AA6: 0 | AB6: 0 | AC6: 0 | AD6: 0 | AE6: 0 | AF6: 0 | AG6: 0 | AH6: 0 | AI6: 0 | AJ6: 0 | AK6: 0 | AL6: 0 | AM6: 0 | AN6: 0 | AO6: 0 | AP6: 0 | AQ6: 0 | AR6: 0 | AS6: 0 | AT6: 0 | AU6: 0 | AV6: 0
A7: Other (e.g. Cash Calls) | C7: =SUM(F7:BA7) -> 0 | F7: 0 | G7: 0 | H7: 0 | I7: 0 | J7: 0 | K7: 0 | L7: 0 | M7: 0 | N7: 0 | O7: 0 | P7: 0 | Q7: 0 | R7: 0 | S7: 0 | T7: 0 | U7: 0 | V7: 0 | W7: 0 | X7: 0 | Y7: 0 | Z7: 0 | AA7: 0 | AB7: 0 | AC7: 0 | AD7: 0 | AE7: 0 | AF7: 0 | AG7: 0 | AH7: 0 | AI7: 0 | AJ7: 0 | AK7: 0 | AL7: 0 | AM7: 0 | AN7: 0 | AO7: 0 | AP7: 0 | AQ7: 0 | AR7: 0 | AS7: 0 | AT7: 0 | AU7: 0 | AV7: 0
A8: Equity Contribution - Initial Contribution and EM | C8: =SUM(F8:BA8) -> 2798028.6 | F8: 0 | G8: 0 | H8: 0 | I8: 0 | J8: =Assumptions!C54 -> 250000 | K8: 0 | L8: =Assumptions!K13-Assumptions!C54 -> 2548028.6 | M8: 0 | N8: 0 | O8: 0 | P8: 0 | Q8: 0 | R8: 0 | S8: 0 | T8: 0 | U8: 0 | V8: 0 | W8: 0 | X8: 0 | Y8: 0 | Z8: 0 | AA8: 0 | AB8: 0 | AC8: 0 | AD8: 0 | AE8: 0 | AF8: 0 | AG8: 0 | AH8: 0 | AI8: 0 | AJ8: 0 | AK8: 0 | AL8: 0 | AM8: 0 | AN8: 0 | AO8: 0 | AP8: 0 | AQ8: 0 | AR8: 0 | AS8: 0 | AT8: 0 | AU8: 0 | AV8: 0
A9: Total | C9: =SUM(F9:BA9) -> 15656749 | F9: =SUM(F5:F8) -> 0 | G9: =SUM(G5:G8) -> 0 | H9: =SUM(H5:H8) -> 0 | I9: =SUM(I5:I8) -> 0 | J9: =SUM(J5:J8) -> 250000 | K9: =SUM(K5:K8) -> 0 | L9: =SUM(L5:L8) -> 2548028.6 | M9: =SUM(M5:M8) -> 0 | ... BA9: =SUM(BA5:BA8) -> 629520
A11: Debt Proceeds - Phase 1 A&D Loan | C11: =SUM(F11:BA11) -> 8062724 | F11: =+'Debt Schedule'!F7+'Debt Schedule'!F8+'Debt Schedule'!F9+'Debt Schedule'!F10 -> 0 | G11: =+'Debt Schedule'!G7+'Debt Schedule'!G8+'Debt Schedule'!G9+'Debt Schedule'!G10 -> 0 | H11: =+'Debt Schedule'!H7+'Debt Schedule'!H8+'Debt Schedule'!H9+'Debt Schedule'!H10 -> 0 | I11: =+'Debt Schedule'!I7+'Debt Schedule'!I8+'Debt Schedule'!I9+'Debt Schedule'!I10 -> 0 | J11: =+'Debt Schedule'!J7+'Debt Schedule'!J8+'Debt Schedule'!J9+'Debt Schedule'!J10 -> 0 | K11: =+'Debt Schedule'!K7+'Debt Schedule'!K8+'Debt Schedule'!K9+'Debt Schedule'!K10 -> 0 | L11: =+'Debt Schedule'!L7+'Debt Schedule'!L8+'Debt Schedule'!L9+'Debt Schedule'!L10 -> 1149471.4 | M11: =+'Debt Schedule'!M7+'Debt Schedule'!M8+'Debt Schedule'!M9+'Debt Schedule'!M10 -> 953806.83 | ... BA11: =+'Debt Schedule'!BA7+'Debt Schedule'!BA8+'Debt Schedule'!BA9+'Debt Schedule'!BA10 -> 0
A13: Total Cash Sources | C13: =SUM(F13:BA13) -> 23719473 | F13: =F9+F11 -> 0 | G13: =G9+G11 -> 0 | H13: =H9+H11 -> 0 | I13: =I9+I11 -> 0 | J13: =J9+J11 -> 250000 | K13: =K9+K11 -> 0 | L13: =L9+L11 -> 3697500 | M13: =M9+M11 -> 953806.83 | ... BA13: =BA9+BA11 -> 629520
A15: Cash Uses:
A16: Land Acquisition
A17: Land Acquisition | C17: =SUM(F17:BA17) -> -3780000 | F17: 0 | G17: 0 | H17: 0 | I17: 0 | J17: =-Assumptions!C54 -> -250000 | K17: 0 | L17: =-Assumptions!G32+Assumptions!C54 -> -3530000 | M17: 0 | N17: 0 | O17: 0 | P17: 0 | Q17: 0 | R17: 0 | S17: 0 | T17: 0 | U17: 0 | V17: 0 | W17: 0 | X17: 0 | Y17: 0 | Z17: 0 | AA17: 0 | AB17: 0 | AC17: 0 | AD17: 0 | AE17: 0 | AF17: 0 | AG17: 0 | AH17: 0 | AI17: 0 | AJ17: 0 | AK17: 0 | AL17: 0 | AM17: 0 | AN17: 0 | AO17: 0 | AP17: 0 | AQ17: 0 | AR17: 0 | AS17: 0 | AT17: 0 | AU17: 0 | AV17: 0 | AW17: 0 | AX17: 0 | AY17: 0 | AZ17: 0 | BA17: 0
A18: Total | C18: =SUM(F18:BA18) -> -3780000 | F18: =SUM(F17) -> 0 | G18: =SUM(G17) -> 0 | H18: =SUM(H17) -> 0 | I18: =SUM(I17) -> 0 | J18: =SUM(J17) -> -250000 | K18: =SUM(K17) -> 0 | L18: =SUM(L17) -> -3530000 | M18: =SUM(M17) -> 0 | ... BA18: =SUM(BA17) -> 0
A20: Hard Costs | C20: =SUM(F20:BA20) -> 0
A21: Hard Costs - Phase 1 | C21: =SUM(F21:BA21) -> -4657500 | F21: 0 | G21: 0 | H21: 0 | I21: 0 | J21: 0 | K21: 0 | L21: 0 | M21: =-Assumptions!$C34*Assumptions!$C31/6 -> -776250 | N21: =-Assumptions!$C34*Assumptions!$C31/6 -> -776250 | O21: =-Assumptions!$C34*Assumptions!$C31/6 -> -776250 | P21: =-Assumptions!$C34*Assumptions!$C31/6 -> -776250 | Q21: =-Assumptions!$C34*Assumptions!$C31/6 -> -776250 | R21: =-Assumptions!$C34*Assumptions!$C31/6 -> -776250 | S21: 0 | T21: 0 | U21: 0 | V21: 0 | W21: 0 | X21: 0 | Y21: 0 | Z21: 0 | AA21: 0 | AB21: 0 | AC21: 0 | AD21: 0 | AE21: 0 | AF21: 0 | AG21: 0 | AH21: 0 | AI21: 0 | AJ21: 0 | AK21: 0 | AL21: 0 | AM21: 0 | AN21: 0 | AO21: 0 | AP21: 0 | AQ21: 0 | AR21: 0 | AS21: 0 | AT21: 0 | AU21: 0 | AV21: 0 | AW21: 0 | AX21: 0 | AY21: 0 | AZ21: 0 | BA21: 0
A22: Hard Costs- Phase 2 | C22: =SUM(F22:BA22) -> 0 | F22: 0 | G22: 0 | H22: 0 | I22: 0 | J22: 0 | K22: 0 | L22: 0 | M22: 0 | N22: 0 | O22: 0 | P22: 0 | Q22: 0 | R22: 0 | S22: 0 | T22: 0 | U22: 0 | V22: 0 | W22: 0 | X22: 0 | Y22: 0 | Z22: 0 | AA22: 0 | AB22: 0 | AC22: 0 | AD22: 0 | AE22: 0 | AF22: 0 | AG22: 0 | AH22: 0 | AI22: 0 | AJ22: 0 | AK22: 0 | AL22: 0 | AM22: 0 | AN22: 0 | AO22: 0 | AP22: 0 | AQ22: 0 | AR22: 0 | AS22: 0 | AT22: 0 | AU22: 0 | AV22: 0 | AW22: 0 | AX22: 0 | AY22: 0 | AZ22: 0 | BA22: 0
A23: Total | C23: =SUM(F23:BA23) -> -4657500 | F23: =SUM(F21:F22) -> 0 | G23: =SUM(G21:G22) -> 0 | H23: =SUM(H21:H22) -> 0 | I23: =SUM(I21:I22) -> 0 | J23: =SUM(J21:J22) -> 0 | K23: =SUM(K21:K22) -> 0 | L23: =SUM(L21:L22) -> 0 | M23: =SUM(M21:M22) -> -776250 | ... BA23: =SUM(BA21:BA22) -> 0
A25: Soft Costs - Phase 1
A26: Loan Origination Fee | C26: =SUM(F26:BA26) -> -25000 | F26: 0 | G26: 0 | H26: 0 | I26: 0 | J26: 0 | K26: 0 | L26: =-Assumptions!C36 -> -25000 | M26: 0 | N26: 0 | O26: 0 | P26: 0 | Q26: 0 | R26: 0 | S26: 0 | T26: 0 | U26: 0 | V26: 0 | W26: 0 | X26: 0 | Y26: 0 | Z26: 0 | AA26: 0 | AB26: 0 | AC26: 0 | AD26: 0 | AE26: 0 | AF26: 0 | AG26: 0 | AH26: 0 | AI26: 0 | AJ26: 0 | AK26: 0 | AL26: 0 | AM26: 0 | AN26: 0 | AO26: 0 | AP26: 0 | AQ26: 0 | AR26: 0 | AS26: 0 | AT26: 0 | AU26: 0 | AV26: 0 | AW26: 0 | AX26: 0 | AY26: 0 | AZ26: 0 | BA26: 0
A27: Appraisal | C27: =SUM(F27:BA27) -> -7500 | F27: 0 | G27: 0 | H27: 0 | I27: 0 | J27: 0 | K27: 0 | L27: =-Assumptions!C35 -> -7500 | M27: 0 | N27: 0 | O27: 0 | P27: 0 | Q27: 0 | R27: 0 | S27: 0 | T27: 0 | U27: 0 | V27: 0 | W27: 0 | X27: 0 | Y27: 0 | Z27: 0 | AA27: 0 | AB27: 0 | AC27: 0 | AD27: 0 | AE27: 0 | AF27: 0 | AG27: 0 | AH27: 0 | AI27: 0 | AJ27: 0 | AK27: 0 | AL27: 0 | AM27: 0 | AN27: 0 | AO27: 0 | AP27: 0 | AQ27: 0 | AR27: 0 | AS27: 0 | AT27: 0 | AU27: 0 | AV27: 0 | AW27: 0 | AX27: 0 | AY27: 0 | AZ27: 0 | BA27: 0
A28: Environmental | C28: =SUM(F28:BA28) -> -10000 | F28: 0 | G28: 0 | H28: 0 | I28: 0 | J28: 0 | K28: 0 | L28: =-Assumptions!C37 -> -10000 | M28: 0 | N28: 0 | O28: 0 | P28: 0 | Q28: 0 | R28: 0 | S28: 0 | T28: 0 | U28: 0 | V28: 0 | W28: 0 | X28: 0 | Y28: 0 | Z28: 0 | AA28: 0 | AB28: 0 | AC28: 0 | AD28: 0 | AE28: 0 | AF28: 0 | AG28: 0 | AH28: 0 | AI28: 0 | AJ28: 0 | AK28: 0 | AL28: 0 | AM28: 0 | AN28: 0 | AO28: 0 | AP28: 0 | AQ28: 0 | AR28: 0 | AS28: 0 | AT28: 0 | AU28: 0 | AV28: 0 | AW28: 0 | AX28: 0 | AY28: 0 | AZ28: 0 | BA28: 0
A29: Geotechnical Investigation | C29: =SUM(F29:BA29) -> -25000 | F29: 0 | G29: 0 | H29: 0 | I29: 0 | J29: 0 | K29: 0 | L29: =-Assumptions!C38 -> -25000 | M29: 0 | N29: 0 | O29: 0 | P29: 0 | Q29: 0 | R29: 0 | S29: 0 | T29: 0 | U29: 0 | V29: 0 | W29: 0 | X29: 0 | Y29: 0 | Z29: 0 | AA29: 0 | AB29: 0 | AC29: 0 | AD29: 0 | AE29: 0 | AF29: 0 | AG29: 0 | AH29: 0 | AI29: 0 | AJ29: 0 | AK29: 0 | AL29: 0 | AM29: 0 | AN29: 0 | AO29: 0 | AP29: 0 | AQ29: 0 | AR29: 0 | AS29: 0 | AT29: 0 | AU29: 0 | AV29: 0 | AW29: 0 | AX29: 0 | AY29: 0 | AZ29: 0 | BA29: 0
A30: Engineering/Survey/Planning | C30: =SUM(F30:BA30) -> -1012500 | F30: 0 | G30: 0 | H30: 0 | I30: 0 | J30: 0 | K30: 0 | L30: 0 | M30: =-Assumptions!$C39*Assumptions!$C31/6 -> -168750 | N30: =-Assumptions!$C39*Assumptions!$C31/6 -> -168750 | O30: =-Assumptions!$C39*Assumptions!$C31/6 -> -168750 | P30: =-Assumptions!$C39*Assumptions!$C31/6 -> -168750 | Q30: =-Assumptions!$C39*Assumptions!$C31/6 -> -168750 | R30: =-Assumptions!$C39*Assumptions!$C31/6 -> -168750 | S30: 0 | T30: 0 | U30: 0 | V30: 0 | W30: 0 | X30: 0 | Y30: 0 | Z30: 0 | AA30: 0 | AB30: 0 | AC30: 0 | AD30: 0 | AE30: 0 | AF30: 0 | AG30: 0 | AH30: 0 | AI30: 0 | AJ30: 0 | AK30: 0 | AL30: 0 | AM30: 0 | AN30: 0 | AO30: 0 | AP30: 0 | AQ30: 0 | AR30: 0 | AS30: 0 | AT30: 0 | AU30: 0 | AV30: 0 | AW30: 0 | AX30: 0 | AY30: 0 | AZ30: 0 | BA30: 0
A31: Lot Closing Costs | C31: =SUM(F31:BA31) -> -67500 | F31: =-Assumptions!$C40*'Sales Proceeds'!F6 -> 0 | G31: =-Assumptions!$C40*'Sales Proceeds'!G6 -> 0 | H31: =-Assumptions!$C40*'Sales Proceeds'!H6 -> 0 | I31: =-Assumptions!$C40*'Sales Proceeds'!I6 -> 0 | J31: =-Assumptions!$C40*'Sales Proceeds'!J6 -> 0 | K31: =-Assumptions!$C40*'Sales Proceeds'!K6 -> 0 | L31: =-Assumptions!$C40*'Sales Proceeds'!L6 -> 0 | M31: =-Assumptions!$C40*'Sales Proceeds'!M6 -> 0 | ... BA31: =-Assumptions!$C40*'Sales Proceeds'!BA6 -> -3000
A32: Construction Management Fee | C32: =SUM(F32:BA32) -> -135000 | F32: 0 | G32: 0 | H32: 0 | I32: 0 | J32: 0 | K32: 0 | L32: 0 | M32: 0 | N32: 0 | O32: 0 | P32: 0 | Q32: 0 | R32: 0 | S32: 0 | T32: 0 | U32: 0 | V32: 0 | W32: 0 | X32: 0 | Y32: 0 | Z32: 0 | AA32: 0 | AB32: 0 | AC32: 0 | AD32: 0 | AE32: 0 | AF32: 0 | AG32: 0 | AH32: 0 | AI32: 0 | AJ32: 0 | AK32: 0 | AL32: 0 | AM32: 0 | AN32: 0 | AO32: 0 | AP32: 0 | AQ32: 0 | AR32: 0 | AS32: 0 | AT32: 0 | AU32: 0 | AV32: 0 | AW32: 0 | AX32: 0 | AY32: 0 | AZ32: 0 | BA32: =-Assumptions!C41*Assumptions!C31 -> -135000
A33: Administrative Cost | C33: =SUM(F33:BA33) -> -41000 | F33: 0 | G33: 0 | H33: 0 | I33: 0 | J33: 0 | K33: 0 | L33: 0 | M33: =-Assumptions!$C42 -> -1000 | N33: =-Assumptions!$C42 -> -1000 | O33: =-Assumptions!$C42 -> -1000 | P33: =-Assumptions!$C42 -> -1000 | Q33: =-Assumptions!$C42 -> -1000 | R33: =-Assumptions!$C42 -> -1000 | S33: =-Assumptions!$C42 -> -1000 | T33: =-Assumptions!$C42 -> -1000 | ... BA33: =-Assumptions!$C42 -> -1000
A34: Legal/Title | C34: =SUM(F34:BA34) -> -100000 | F34: 0 | G34: 0 | H34: 0 | I34: 0 | J34: 0 | K34: 0 | L34: =-Assumptions!C43 -> -100000 | M34: 0 | N34: 0 | O34: 0 | P34: 0 | Q34: 0 | R34: 0 | S34: 0 | T34: 0 | U34: 0 | V34: 0 | W34: 0 | X34: 0 | Y34: 0 | Z34: 0 | AA34: 0 | AB34: 0 | AC34: 0 | AD34: 0 | AE34: 0 | AF34: 0 | AG34: 0 | AH34: 0 | AI34: 0 | AJ34: 0 | AK34: 0 | AL34: 0 | AM34: 0 | AN34: 0 | AO34: 0 | AP34: 0 | AQ34: 0 | AR34: 0 | AS34: 0 | AT34: 0 | AU34: 0 | AV34: 0 | AW34: 0 | AX34: 0 | AY34: 0 | AZ34: 0 | BA34: 0
A35: Property Taxes | C35: =SUM(F35:BA35) -> -519800 | F35: 0 | G35: 0 | H35: 0 | I35: 0 | J35: 0 | K35: 0 | L35: 0 | M35: 0 | N35: 0 | O35: 0 | P35: 0 | Q35: 0 | R35: =-Assumptions!$C44*Assumptions!$C32/2 -> -105000 | S35: 0 | T35: 0 | U35: 0 | V35: 0 | W35: 0 | X35: 0 | Y35: 0 | Z35: 0 | AA35: 0 | AB35: 0 | AC35: 0 | AD35: =-Assumptions!$C44*Assumptions!$C32-Assumptions!C59 -> -260000 | AE35: 0 | AF35: 0 | AG35: 0 | AH35: 0 | AI35: 0 | AJ35: 0 | AK35: 0 | AL35: 0 | AM35: 0 | AN35: 0 | AO35: 0 | AP35: =-(Assumptions!$C31-'Sales Proceeds'!AC7)*Assumptions!C30*Assumptions!C45 -> -154800 | AQ35: 0 | AR35: 0 | AS35: 0 | AT35: 0 | AU35: 0 | AV35: 0 | AW35: 0 | AX35: 0 | AY35: 0 | AZ35: 0 | BA35: 0
A36: Total | C36: =SUM(F36:BA36) -> -1943300 | F36: =SUM(F26:F35) -> 0 | G36: =SUM(G26:G35) -> 0 | H36: =SUM(H26:H35) -> 0 | I36: =SUM(I26:I35) -> 0 | J36: =SUM(J26:J35) -> 0 | K36: =SUM(K26:K35) -> 0 | L36: =SUM(L26:L35) -> -167500 | M36: =SUM(M26:M35) -> -169750 | ... BA36: =SUM(BA26:BA35) -> -139000
A38: Return of Equity (Capital) | C38: =SUM(F38:BA38) -> -2798028.6 | F38: 0 | G38: 0 | H38: 0 | I38: 0 | J38: 0 | K38: 0 | L38: 0 | M38: 0 | N38: 0 | O38: 0 | P38: 0 | Q38: 0 | R38: 0 | S38: 0 | T38: 0 | U38: 0 | V38: 0 | W38: 0 | X38: 0 | Y38: 0 | Z38: 0 | AA38: 0 | AB38: 0 | AC38: 0 | AD38: 0 | AE38: 0 | AF38: 0 | AG38: 0 | AH38: 0 | AI38: 0 | AJ38: 0 | AK38: 0 | AL38: 0 | AM38: 0 | AN38: 0 | AO38: 0 | AP38: 0 | AQ38: 0 | AR38: 0 | AS38: 0 | AT38: 0 | AU38: 0 | AV38: 0 | AW38: 0 | AX38: 0 | AY38: 0 | AZ38: 0 | BA38: =-Assumptions!K13 -> -2798028.6
A39: Profit Payout | C39: =SUM(F39:BA39) -> -1675167 | F39: 0 | G39: 0 | H39: 0 | I39: 0 | J39: 0 | K39: 0 | L39: 0 | M39: 0 | N39: 0 | O39: 0 | P39: 0 | Q39: 0 | R39: 0 | S39: 0 | T39: 0 | U39: 0 | V39: 0 | W39: 0 | X39: 0 | Y39: 0 | Z39: 0 | AA39: 0 | AB39: 0 | AC39: 0 | AD39: 0 | AE39: 0 | AF39: 0 | AG39: 0 | AH39: 0 | AI39: 0 | AJ39: 0 | AK39: 0 | AL39: 0 | AM39: 0 | AN39: 0 | AO39: 0 | AP39: 0 | AQ39: 0 | AR39: 0 | AS39: 0 | AT39: 0 | AU39: 0 | AV39: 0 | AW39: 0 | AX39: 0 | AY39: 0 | AZ39: 0 | BA39: =-1391262-755792-139576+279152-46481+15479-5155+1717-572+190-63+21-7+1+367181 -> -1675167
A41: Debt Service:
A42: Scheduled Amortization - Phase 1 A&D Loan | C42: =SUM(F42:BA42) -> -8147124 | F42: =+'Debt Schedule'!F11 -> 0 | G42: =+'Debt Schedule'!G11 -> 0 | H42: =+'Debt Schedule'!H11 -> 0 | I42: =+'Debt Schedule'!I11 -> 0 | J42: =+'Debt Schedule'!J11 -> 0 | K42: =+'Debt Schedule'!K11 -> 0 | L42: =+'Debt Schedule'!L11 -> 0 | M42: =+'Debt Schedule'!M11 -> 0 | ... BA42: =+'Debt Schedule'!BA11 -> 0
A43: Unscheduled Amortization - Phase 1 A&D Loan | C43: =SUM(F43:BA43) -> 84400 | F43: =+'Debt Schedule'!F12 -> 0 | G43: =+'Debt Schedule'!G12 -> 0 | H43: =+'Debt Schedule'!H12 -> 0 | I43: =+'Debt Schedule'!I12 -> 0 | J43: =+'Debt Schedule'!J12 -> 0 | K43: =+'Debt Schedule'!K12 -> 0 | L43: =+'Debt Schedule'!L12 -> 0 | M43: =+'Debt Schedule'!M12 -> 0 | ... BA43: =+'Debt Schedule'!BA12 -> 0
A44: Interest Expense - Phase 1 A&D Loan | C44: =SUM(F44:BA44) -> -802752.68 | F44: =-'Debt Schedule'!F16 -> 0 | G44: =-'Debt Schedule'!G16 -> 0 | H44: =-'Debt Schedule'!H16 -> 0 | I44: =-'Debt Schedule'!I16 -> 0 | J44: =-'Debt Schedule'!J16 -> 0 | K44: =-'Debt Schedule'!K16 -> 0 | L44: =-'Debt Schedule'!L16 -> 0 | M44: =-'Debt Schedule'!M16 -> -7806.8263 | ... BA44: =-'Debt Schedule'!BA16 -> 0
A45: Total | C45: =SUM(F45:BA45) -> -8865476.7 | F45: =SUM(F42:F44) -> 0 | G45: =SUM(G42:G44) -> 0 | H45: =SUM(H42:H44) -> 0 | I45: =SUM(I42:I44) -> 0 | J45: =SUM(J42:J44) -> 0 | K45: =SUM(K42:K44) -> 0 | L45: =SUM(L42:L44) -> 0 | M45: =SUM(M42:M44) -> -7806.8263 | ... BA45: =SUM(BA42:BA44) -> 0
A47: Total Cash Uses | C47: =SUM(F47:BA47) -> -23719472 | F47: =F18+F23+F36+F38+F39+F45 -> 0 | G47: =G18+G23+G36+G38+G39+G45 -> 0 | H47: =H18+H23+H36+H38+H39+H45 -> 0 | I47: =I18+I23+I36+I38+I39+I45 -> 0 | J47: =J18+J23+J36+J38+J39+J45 -> -250000 | K47: =K18+K23+K36+K38+K39+K45 -> 0 | L47: =L18+L23+L36+L38+L39+L45 -> -3697500 | M47: =M18+M23+M36+M38+M39+M45 -> -953806.83 | ... BA47: =BA18+BA23+BA36+BA38+BA39+BA45 -> -4612195.6
A49: Net Cash Flow | C49: =SUM(F49:BA49) -> 0.35848601 | F49: =F13+F47 -> 0 | G49: =G13+G47 -> 0 | H49: =H13+H47 -> 0 | I49: =I13+I47 -> 0 | J49: =J13+J47 -> 0 | K49: =K13+K47 -> 0 | L49: =L13+L47 -> 0 | M49: =M13+M47 -> 0 | ... BA49: =BA13+BA47 -> -3982675.6
...

Sheet Debt Schedule
A1: DEBT SCHEDULE
A2: =Assumptions!B5 -> 668 Sample: Kent Anderson DCF Model
A3: Lender's Collateral Release Rate | C3: =Assumptions!C52 -> 0.95
L4: A&D Loan Close | S4: SC | T4: First Lot Closing | AD4: A&D Int Increse | AO4: pay off?
A5: A&D Loan | C5: Debt Issuance | F5: ='Sales Proceeds'!F4 -> Jan- Yr 1 | G5: ='Sales Proceeds'!G4 -> Feb- Yr 1 | H5: ='Sales Proceeds'!H4 -> Mar- Yr 1 | I5: ='Sales Proceeds'!I4 -> Apr- Yr 1 | J5: ='Sales Proceeds'!J4 -> May- Yr 1 | K5: ='Sales Proceeds'!K4 -> Jun- Yr 1 | L5: ='Sales Proceeds'!L4 -> Jul- Yr 1 | M5: ='Sales Proceeds'!M4 -> Aug- Yr 1 | ... AV5: ='Sales Proceeds'!AV4 -> Jul- Yr 4 | AW5: Aug- Yr 4 | AX5: Sept- Yr 4 | AY5: Oct- Yr 4 | AZ5: Nov- Yr 4 | BA5: Dec- Yr 4
A6: Beginning Balance - Phase 1 A&D Loan | F6: 0 | G6: =+F13 -> 0 | H6: =G13 -> 0 | I6: =H13 -> 0 | J6: =I13 -> 0 | K6: =J13 -> 0 | L6: =K13 -> 0 | M6: =L13 -> 1149471.4 | N6: =M13 -> 2103278.2 | O6: =N13 -> 3063562.9 | ... BA6: =AZ13 -> 0
A7: Plus: Debt Issuance for Land | C7: =SUM(F7:AU7) -> 981971.36 | D7: + | F7: 0 | G7: 0 | H7: 0 | I7: 0 | J7: 0 | K7: 0 | L7: =Assumptions!G32-Assumptions!K13 -> 981971.36 | M7: 0 | N7: 0 | O7: 0 | P7: 0 | Q7: 0 | R7: 0 | S7: 0 | T7: 0 | U7: 0 | V7: 0 | W7: 0 | X7: 0 | Y7: 0 | Z7: 0 | AA7: 0 | AB7: 0 | AC7: 0 | AD7: 0 | AE7: 0 | AF7: 0 | AG7: 0 | AH7: 0 | AI7: 0 | AJ7: 0 | AK7: 0 | AL7: 0 | AM7: 0 | AN7: 0 | AO7: 0 | AP7: 0 | AQ7: 0 | AR7: 0 | AS7: 0 | AT7: 0 | AU7: 0 | AV7: 0
A8: Plus: Debt Issuance for Hard Costs | C8: =SUM(F8:BA8) -> 4657500 | D8: + | F8: =-'Cash Flow'!F23 -> 0 | G8: =-'Cash Flow'!G23 -> 0 | H8: =-'Cash Flow'!H23 -> 0 | I8: =-'Cash Flow'!I23 -> 0 | J8: =-'Cash Flow'!J23 -> 0 | K8: =-'Cash Flow'!K23 -> 0 | L8: =-'Cash Flow'!L23 -> 0 | M8: =-'Cash Flow'!M23 -> 776250 | ... BA8: =-'Cash Flow'!BA23 -> 0
A9: Plus: Debt Issuance for Soft Costs | C9: =SUM(F9:BA9) -> 1620500 | D9: + | F9: =-'Cash Flow'!F36 -> 0 | G9: =-'Cash Flow'!G36 -> 0 | H9: =-'Cash Flow'!H36 -> 0 | I9: =-'Cash Flow'!I36 -> 0 | J9: =-'Cash Flow'!J36 -> 0 | K9: =-'Cash Flow'!K36 -> 0 | L9: =-'Cash Flow'!L36 -> 167500 | M9: =-'Cash Flow'!M36 -> 169750 | ... AO9: =-'Cash Flow'!AO36 -> 7000 | AP9: 0 | AQ9: 0 | AR9: 0
A10: Plus: Debt Issuance for Interest Expense | C10: =SUM(F10:BA10) -> 802752.68 | D10: + | F10: =-'Cash Flow'!F44 -> 0 | G10: =-'Cash Flow'!G44 -> 0 | H10: =-'Cash Flow'!H44 -> 0 | I10: =-'Cash Flow'!I44 -> 0 | J10: =-'Cash Flow'!J44 -> 0 | K10: =-'Cash Flow'!K44 -> 0 | L10: =-'Cash Flow'!L44 -> 0 | M10: =-'Cash Flow'!M44 -> 7806.8263 | ... AO10: =-'Cash Flow'!AO44 -> 7344.6529
A11: Less: Scheduled Amortization | C11: =SUM(F11:BA11) -> -8147124 | D11: - | F11: =-'Sales Proceeds'!F12*$C3 -> 0 | G11: =-'Sales Proceeds'!G12*$C3 -> 0 | H11: =-'Sales Proceeds'!H12*$C3 -> 0 | I11: =-'Sales Proceeds'!I12*$C3 -> 0 | J11: =-'Sales Proceeds'!J12*$C3 -> 0 | K11: =-'Sales Proceeds'!K12*$C3 -> 0 | L11: =-'Sales Proceeds'!L12*$C3 -> 0 | M11: =-'Sales Proceeds'!M12*$C3 -> 0 | ... AQ11: =-'Sales Proceeds'!AQ12*$C3 -> 0 | AR11: 0 | AS11: =-'Sales Proceeds'!AS12*$C3 -> 0 | AT11: =-'Sales Proceeds'!AT12*$C3 -> 0 | AV11: =-'Sales Proceeds'!AV12*$C3 -> 0 | AW11: =-'Sales Proceeds'!AW12*$C3 -> 0 | AY11: =-'Sales Proceeds'!AY12*$C3 -> 0 | AZ11: =-'Sales Proceeds'!AZ12*$C3 -> 0
A12: Less: Unscheduled Amortization | C12: =SUM(F12:BA12) -> 84400 | D12: + | F12: 0 | G12: 0 | H12: 0 | I12: 0 | J12: 0 | K12: 0 | L12: 0 | M12: 0 | N12: 0 | O12: 0 | P12: 0 | Q12: 0 | R12: 0 | S12: 0 | T12: 0 | U12: 0 | V12: 0 | W12: 0 | X12: 0 | Y12: 0 | Z12: 0 | AA12: 0 | AB12: 0 | AC12: 0 | AD12: 0 | AE12: 0 | AF12: 0 | AG12: 0 | AH12: 0 | AI12: 0 | AJ12: 0 | AK12: 0 | AL12: 0 | AM12: 0 | AN12: 0 | AO12: 84400 | AP12: 0 | AQ12: 0 | AR12: 0 | AS12: 0 | AT12: 0 | AU12: 0 | AV12: 0
A13: Total Ending Balance | C13: =SUM(F13:BA13) -> 1.1633738e+08 | F13: =SUM(F6:F12) -> 0 | G13: =SUM(G6:G12) -> 0 | H13: =SUM(H6:H12) -> 0 | I13: =SUM(I6:I12) -> 0 | J13: =SUM(J6:J12) -> 0 | K13: =SUM(K6:K12) -> 0 | L13: =SUM(L6:L12) -> 1149471.4 | M13: =SUM(M6:M12) -> 2103278.2 | ... AO13: =SUM(AO6:AO12) -> 0.036622786 | AQ13: =SUM(AQ6:AQ12) -> 0 | AR13: =SUM(AR6:AR12) -> 0 | AS13: =SUM(AS6:AS12) -> 0 | AT13: =SUM(AT6:AT12) -> 0 | AU13: =SUM(AU6:AU12) -> 0 | AV13: =SUM(AV6:AV12) -> 0 | AW13: =SUM(AW6:AW12) -> 0 | AX13: =SUM(AX6:AX12) -> 0 | ... BA13: =SUM(BA6:BA12) -> 0
A15: Interest Rate | F15: =Assumptions!$C49 -> 0.0815 | G15: =Assumptions!$C49 -> 0.0815 | H15: =Assumptions!$C49 -> 0.0815 | I15: =Assumptions!$C49 -> 0.0815 | J15: =Assumptions!$C49 -> 0.0815 | K15: =Assumptions!$C49 -> 0.0815 | L15: =Assumptions!$C49 -> 0.0815 | M15: =Assumptions!$C49 -> 0.0815 | ... AC15: =Assumptions!$C49 -> 0.0815 | AD15: =Assumptions!$C49+Assumptions!$C50 -> 0.0865 | AE15: =Assumptions!$C49+Assumptions!$C50 -> 0.0865 | AF15: =Assumptions!$C49+Assumptions!$C50 -> 0.0865 | AG15: =Assumptions!$C49+Assumptions!$C50 -> 0.0865 | AH15: =Assumptions!$C49+Assumptions!$C50 -> 0.0865 | AI15: =Assumptions!$C49+Assumptions!$C50 -> 0.0865 | AJ15: =Assumptions!$C49+Assumptions!$C50 -> 0.0865 | AK15: =Assumptions!$C49+Assumptions!$C50 -> 0.0865 | ... BA15: =Assumptions!$C49+Assumptions!$C50 -> 0.0865
A16: Interest Expense | F16: 0 | G16: =F13*G15/12 -> 0 | H16: =G13*H15/12 -> 0 | I16: =H13*I15/12 -> 0 | J16: =I13*J15/12 -> 0 | K16: =J13*K15/12 -> 0 | L16: =K13*L15/12 -> 0 | M16: =L13*M15/12 -> 7806.8263 | N16: =M13*N15/12 -> 14284.764 | ... BA16: =AZ13*BA15/12 -> 0
